BEGIN:VCALENDAR
VERSION:2.0
PRODID:-//wp-events-plugin.com//7.2.3.1//EN
TZID:America/New_York
X-WR-TIMEZONE:America/New_York
BEGIN:VEVENT
UID:1301@wvpst.org
DTSTART;TZID=America/New_York:20200321T090000
DTEND;TZID=America/New_York:20200321T170000
DTSTAMP:20200316T160711Z
URL:https://wvpst.org/events/managing-the-volunteer-fire-department-2/
SUMMARY:Managing the VFD - Postponed/Being Rescheduled
DESCRIPTION:Managing the Volunteer Fire Department\nAn 8-hour class\, Manag
 ing the Volunteer Fire Department\, will be presented at United Technical 
 Center on Saturday March 21\, 2020 from 9 am to 5 pm.   NO COST FOR THIS
  COURSE.  Preregistration is required so we can have a head count of thos
 e attending.  PLEASE REGISTER BELOW.\n\nThere are many aspects to managin
 g a Volunteer Fire Department. Some best practices are a matter of choice\
 , but there are many legal requirements. The reality is that fire officers
 \, VFD board members\, and other members of VFDs are being arrested\, sued
 \, and brought before regulatory agencies to answer for not following lega
 lly required procedures. How can you best manage a VFD to not only provide
  the best service to the community\, but also to ensure meeting all legal 
 requirements? This training will clearly explain the legally required proc
 edures and share best practices. VFD board members\, fire officers\, and a
 nyone involved in any way with the management of a Volunteer Fire Departme
 nt in West Virginia are strongly encouraged to attend this training.\n\nTh
 e instructor for this class is Steve Connolly\, General Counsel\, Deputy S
 tate Auditor &amp\; Director of the Public Integrity &amp\; Fraud Unit Wes
 t Virginia State Auditor’s Office. Steve has served as the General Couns
 el for the WV State Fire Commission. He has also served his community as a
  Volunteer Fire Fighter\, Fire Instructor\, and has taught many classes ex
 plaining legal aspects of the volunteer fire service. This training is pro
 vided at no charge courtesy of the WV State Auditor’s Office.
CATEGORIES:WVPST Clarksburg
LOCATION:\, \, 
X-APPLE-STRUCTURED-LOCATION;VALUE=URI;X-ADDRESS=\, ;X-APPLE-RADIUS=100;X-TI
 TLE=:geo:0,0
END:VEVENT
BEGIN:VTIMEZONE
TZID:America/New_York
X-LIC-LOCATION:America/New_York
BEGIN:DAYLIGHT
DTSTART:20200308T030000
TZOFFSETFROM:-0500
TZOFFSETTO:-0400
TZNAME:EDT
END:DAYLIGHT
END:VTIMEZONE
END:VCALENDAR