BEGIN:VCALENDAR
VERSION:2.0
PRODID:-//wp-events-plugin.com//7.2.3.1//EN
TZID:America/New_York
X-WR-TIMEZONE:America/New_York
BEGIN:VEVENT
UID:3015@wvpst.org
DTSTART;TZID=America/New_York:20260513T090000
DTEND;TZID=America/New_York:20260513T160000
DTSTAMP:20260422T201144Z
URL:https://wvpst.org/events/local-volunteer-donation-management/
SUMMARY:Local Volunteer & Donation Management
DESCRIPTION:West Virginia Emergency Management will be conducting the follo
 wing class at the Hampshire\nCounty Heath Department.\n\n&nbsp\;\n\nDescri
 ption: The course is designed to strengthen the abilities of local\njurisd
 ictions to successfully prepare for and handle volunteer and donations\nma
 nagement issues that may arise. The course content and activities may also
 \nserve as a template\, thereby enhancing uniformity in addressing areas o
 f donated\nunsolicited goods\, unaffiliated volunteers\, and undesignated 
 cash. This training\nalso provides information regarding the state's volun
 teer and donations\nmanagement responsibilities\, which are designed to he
 lp build relationships between government and non-governmental organizatio
 ns.\n\nRegistration: To register for this G0288 course\, please click on t
 his course on the\nWVPST Martinsburg website and calendar. If you have any
  other questions or\nconcerns\, please contact the WVEMD Training &amp\; E
 xercise Team (emdte@wv.gov).\n\nPrerequisites (Recommended): FEMA IS-100\,
  IS-288\, and IS-700\n\nDates: May 13\, 14\, 2026\n\n&nbsp\;\n\nInstructor
 s: Tessa Lovro\n\n&nbsp\;\n\nG0288 Hampshire County (Main)(PDF)\n\n&nbsp\;
CATEGORIES:WVPST Martinsburg
LOCATION:Hampshire County Health Department\, 16189 Northwestern Turnpike \
 , Hampshire\, WV\, 26704\, United States
GEO:39.30004;-78.626086
X-APPLE-STRUCTURED-LOCATION;VALUE=URI;X-ADDRESS=16189 Northwestern Turnpike
  \, Hampshire\, WV\, 26704\, United States;X-APPLE-RADIUS=100;X-TITLE=Hamp
 shire County Health Department:geo:39.30004,-78.626086
END:VEVENT
BEGIN:VTIMEZONE
TZID:America/New_York
X-LIC-LOCATION:America/New_York
BEGIN:DAYLIGHT
DTSTART:20260308T030000
TZOFFSETFROM:-0500
TZOFFSETTO:-0400
TZNAME:EDT
END:DAYLIGHT
END:VTIMEZONE
END:VCALENDAR