BEGIN:VCALENDAR
VERSION:2.0
PRODID:-//wp-events-plugin.com//7.2.3.1//EN
TZID:America/New_York
X-WR-TIMEZONE:America/New_York
BEGIN:VEVENT
UID:1281@wvpst.org
DTSTART;TZID=America/New_York:20200204T080000
DTEND;TZID=America/New_York:20200204T170000
DTSTAMP:20200114T153254Z
URL:https://wvpst.org/events/instructor-1-2/
SUMMARY:Instructor 1
DESCRIPTION:WVPST is offering an Instructor I class beginning February 4\, 
 2020 at 8:00 am. Dates and times of classes are as follows:\n\nFebruary 4\
 , 5 &amp\; 6              8:00 am - 5:00 pm\n\nFebruary 11\, 
 12 &amp\; 13        8:00 am - 5:00 pm\n\nStudents must attend 100% of
  the class- NO EXCEPTIONS.\n\nLocation:  Logan Emergency Ambulance Servic
 e Authority (511 Dingess St.\, Logan\, WV 25601)\n\nThe cost is $150.00 an
 d includes tuition and book. Lodging and meals will be on your own.\n\nYo
 u should bring reference materials relative to the program you will be tea
 ching (such as EMT textbooks\, fire service training textbooks\, props\, e
 tc.)\n\nThere will be mandatory course work each night. Participants will 
 be required to write objectives\, develop a lesson plan and teach a 20-min
 ute lesson on an assigned topic\, as well as perform some of the practical
  skills. A laptop is encouraged but not required.\n\nClass will be limited
  to 20 students.\n\nTo register\, please contact Tammy Norman at tnorman@k
 12.wv.us or (304) 766-0011 ext. 21
CATEGORIES:WVPST Charleston
LOCATION:Logan Emergency Ambulance Service Authority\, 511 Dingess St.\, Lo
 gan\, WV\, 25601\, United States
GEO:37.849924;-81.993077
X-APPLE-STRUCTURED-LOCATION;VALUE=URI;X-ADDRESS=511 Dingess St.\, Logan\, W
 V\, 25601\, United States;X-APPLE-RADIUS=100;X-TITLE=Logan Emergency Ambul
 ance Service Authority:geo:37.849924,-81.993077
END:VEVENT
BEGIN:VTIMEZONE
TZID:America/New_York
X-LIC-LOCATION:America/New_York
BEGIN:STANDARD
DTSTART:20191103T010000
TZOFFSETFROM:-0400
TZOFFSETTO:-0500
TZNAME:EST
END:STANDARD
END:VTIMEZONE
END:VCALENDAR