BEGIN:VCALENDAR
VERSION:2.0
PRODID:-//wp-events-plugin.com//7.2.3.1//EN
TZID:America/New_York
X-WR-TIMEZONE:America/New_York
BEGIN:VEVENT
UID:2654@wvpst.org
DTSTART;TZID=America/New_York:20240108T180000
DTEND;TZID=America/New_York:20240108T220000
DTSTAMP:20231208T151549Z
URL:https://wvpst.org/events/initial-emt-basic/
SUMMARY:Initial EMT Basic
DESCRIPTION:Initial EMT Basic\nLocation:  West Liberty VFD Instructor:  B
 ob Fowler Hours:  156\n\nPre-Requisites:  Included Cost:  $800.00 inclu
 des books\, tuition\, JBL Navigate Premier access\, Platinum Education acc
 ess and NREMT testing voucher.\n\nFirst Day of Class:  1/8/2024\n\nClass 
 Days and Time: Weekdays 6:00 PM till 10 PM and Sundays 9:00 AM till 5:00 P
 M Preregister to guarantee your seat.\n\n24-282-06 outline with Instructor
  name7957\n\nClass Limit:  25 Students\n\nClick this link to Pre-register
  https://forms.office.com/r/Urvrs0ryGB
CATEGORIES:WVPST Wheeling
LOCATION:\, \, 
X-APPLE-STRUCTURED-LOCATION;VALUE=URI;X-ADDRESS=\, ;X-APPLE-RADIUS=100;X-TI
 TLE=:geo:0,0
END:VEVENT
BEGIN:VTIMEZONE
TZID:America/New_York
X-LIC-LOCATION:America/New_York
BEGIN:STANDARD
DTSTART:20231105T010000
TZOFFSETFROM:-0400
TZOFFSETTO:-0500
TZNAME:EST
END:STANDARD
END:VTIMEZONE
END:VCALENDAR