BEGIN:VCALENDAR
VERSION:2.0
PRODID:-//wp-events-plugin.com//7.2.3.1//EN
TZID:America/New_York
X-WR-TIMEZONE:America/New_York
BEGIN:VEVENT
UID:446@wvpst.org
DTSTART;TZID=America/New_York;VALUE=DATE:20180413
DTEND;TZID=America/New_York;VALUE=DATE:20180415
DTSTAMP:20180330T160737Z
URL:https://wvpst.org/events/ifsac-fire-fighter-ii-testing/
SUMMARY:IFSAC Fire Fighter II Testing
DESCRIPTION:WVPST Martinsburg Hosting IFSAC Certification Testing for Firef
 ighters\nIndividuals wishing to receive IFSAC certification through West V
 irginia Public Service Training must apply to attend a testing session and
  then successfully pass a written examination and demonstrate practical sk
 ills.  The next opportunity for IFSAC testing in West Virginia will be at
  the Berkeley Springs Fire Department.  Testing for Firefighter 1\, Hazar
 dous Materials Awareness\, and Hazardous Materials Operations will be admi
 nistered on April 7 and 8\, 2018.  Testing for Firefighter 2 will be admi
 nistered on April 13 and 14\, 2018.  The written tests will be administer
 ed on Saturday\, April 7 at 6:00 pm\, and Friday\, April 13 at 6:30 pm.  
 The practical skills assessments will be administered on Sunday\, April 8 
 and Saturday\, April 14\, starting at 9:00 am.  Anyone interested in test
 ing to receive the IFSAC certification must pre-apply.  There is a $25 fe
 e for each certification.  Applications and a flyer are available by clic
 king the links below.\n\nClick here for a flyer for IFSAC FF 2 Testing\n\n
 Click here for a FF 2 IFSAC Testing Application\n\nClick here for IFSAC FF
  2 Skills Sheets\n\nWV Public Service Training is proud to offer IFSAC cer
 tification.  International Fire Service Accreditation Congress (IFSAC) pr
 ovides certification to individuals who pass examinations based on Nationa
 l Fire Protection Association (NFPA) fire service professional qualificati
 ons.  IFSAC was founded to ensure the quality and continuation of a natio
 nal accreditation system for fire service certification programs.  After 
 an extensive application process and a site visit by IFSAC officials the W
 est Virginia Department of Education received accreditation from IFSAC for
  the six Public Service Training programs around the state.\n\nFor more in
 formation about IFSAC visit www.ifsac.org or contact David Plume\, Public 
 Service Training Coordinator\, at dplume@k12.wv.us or 304-596-2653.
CATEGORIES:WVPST Martinsburg
LOCATION:Berkeley Springs VFC\, 34 N Mercer St\, Berkeley Springs\, United 
 States
GEO:39.6269116;-78.22618879999999
X-APPLE-STRUCTURED-LOCATION;VALUE=URI;X-ADDRESS=34 N Mercer St\, Berkeley S
 prings\, United States;X-APPLE-RADIUS=100;X-TITLE=Berkeley Springs VFC:geo
 :39.6269116,-78.22618879999999
END:VEVENT
BEGIN:VTIMEZONE
TZID:America/New_York
X-LIC-LOCATION:America/New_York
BEGIN:DAYLIGHT
DTSTART:20180311T030000
TZOFFSETFROM:-0500
TZOFFSETTO:-0400
TZNAME:EDT
END:DAYLIGHT
END:VTIMEZONE
END:VCALENDAR