BEGIN:VCALENDAR
VERSION:2.0
PRODID:-//wp-events-plugin.com//7.2.3.1//EN
TZID:America/New_York
X-WR-TIMEZONE:America/New_York
BEGIN:VEVENT
UID:445@wvpst.org
DTSTART;TZID=America/New_York;VALUE=DATE:20180407
DTEND;TZID=America/New_York;VALUE=DATE:20180409
DTSTAMP:20180330T160612Z
URL:https://wvpst.org/events/ifsac-fire-fighter-i-testing/
SUMMARY:IFSAC Fire Fighter I Testing
DESCRIPTION:WVPST Martinsburg Hosting IFSAC Certification Testing for Firef
 ighters\nIndividuals wishing to receive IFSAC certification through West V
 irginia Public Service Training must apply to attend a testing session and
  then successfully pass a written examination and demonstrate practical sk
 ills.  The next opportunity for IFSAC testing in West Virginia will be at
  the Berkeley Springs Fire Department.  Testing for Firefighter 1\, Hazar
 dous Materials Awareness\, and Hazardous Materials Operations will be admi
 nistered on April 7 and 8\, 2018.  Testing for Firefighter 2 will be admi
 nistered on April 13 and 14\, 2018.  The written tests will be administer
 ed on Saturday\, April 7 at 6:00 pm\, and Friday\, April 13 at 6:30 pm.  
 The practical skills assessments will be administered on Sunday\, April 8 
 and Saturday\, April 14\, starting at 9:00 am.  Anyone interested in test
 ing to receive the IFSAC certification must pre-apply.  There is a $25 fe
 e for each certification.  Applications and a flyer are available by clic
 king the links below.\n\nClick here for a flyer for IFSAC FF 1 Testing\n\n
 Click here for the FF I IFSAC Testing  Application\n\n Click here for FF
  1 IFSAC Skill Sheets\n\nClick here for IFSAC HazMat Operations Skill Shee
 ts\n\nWV Public Service Training is proud to offer IFSAC certification.  
 International Fire Service Accreditation Congress (IFSAC) provides certifi
 cation to individuals who pass examinations based on National Fire Protect
 ion Association (NFPA) fire service professional qualifications.  IFSAC w
 as founded to ensure the quality and continuation of a national accreditat
 ion system for fire service certification programs.  After an extensive a
 pplication process and a site visit by IFSAC officials the West Virginia D
 epartment of Education received accreditation from IFSAC for the six Publi
 c Service Training programs around the state.\n\nFor more information abou
 t IFSAC visit www.ifsac.org or contact David Plume\, Public Service Traini
 ng Coordinator\, at dplume@k12.wv.us or 304-596-2653.
CATEGORIES:WVPST Martinsburg
LOCATION:Berkeley Springs VFC\, 34 N Mercer St\, Berkeley Springs\, United 
 States
GEO:39.6269116;-78.22618879999999
X-APPLE-STRUCTURED-LOCATION;VALUE=URI;X-ADDRESS=34 N Mercer St\, Berkeley S
 prings\, United States;X-APPLE-RADIUS=100;X-TITLE=Berkeley Springs VFC:geo
 :39.6269116,-78.22618879999999
END:VEVENT
BEGIN:VTIMEZONE
TZID:America/New_York
X-LIC-LOCATION:America/New_York
BEGIN:DAYLIGHT
DTSTART:20180311T030000
TZOFFSETFROM:-0500
TZOFFSETTO:-0400
TZNAME:EDT
END:DAYLIGHT
END:VTIMEZONE
END:VCALENDAR