BEGIN:VCALENDAR
VERSION:2.0
PRODID:-//wp-events-plugin.com//7.2.3.1//EN
TZID:America/New_York
X-WR-TIMEZONE:America/New_York
BEGIN:VEVENT
UID:2156@wvpst.org
DTSTART;TZID=America/New_York:20220813T080000
DTEND;TZID=America/New_York:20220813T180000
DTSTAMP:20220728T191605Z
URL:https://wvpst.org/events/ics-300-intermediate-incident-command-system-
 3/
SUMMARY:ICS 300:  Intermediate Incident Command System
DESCRIPTION:WV Public Service Training is pleased to announce an ICS: 300: 
 Intermediate Incident Command System on August 13-14\, 2022 from 8:00 am -
  6:00 pm at  Ona VFD (2900 Howells Mill Rd.\, Ona\, WV 25545).\n\nThis co
 urse expands upon information covered in the ICS-100 &amp\; ICS 200 course
 s. This course is intended for individuals who may assume a supervisory r
 ole in expanding incidents or Type 3 incidents.\n\nCertification for this 
 class will be a FEMA certificate.\n\nMUST BRING LAPTOP TO CLASS!\n\nPrereq
 uisites: ICS-100\, ICS-200\, IS/ICS-700\, IS/ICS-800 (You may either email
  copies of certificates to eva.godbey@k12.wv.us or present them the first 
 day of class)\n\nTuition: $35/person\n\nSupply Fee: $10/person\n\nLocation
 : Ona VFD (2900 Howells Mill Rd.\, Ona\, WV 25545)\n\nDate: August 13-14\
 , 2022\n\nTime: 0800-1800\n\nInstructor: Brent Burger\n\nPre-registration
  REQUIRED!\n\nTo Register: Follow the guidelines in the attached document 
 using the course number in this posting. WVPST is adopting a new registrat
 ion platform that we believe will be more user-friendly. Should you have a
 ny issues\, please contact Eva Godbey at eva.godbey@k12.wv.us. \n\nLink: 
 www.pstachio.wvnet.edu (If link doesn't work\, use Google Chrome and searc
 h PSTachio.wvnet.edu)\n\nCourse ID: 23-025-03 WVPST Charleston\n\nIf you h
 ave any questions or issues registering\, please contact Eva Godbey at ev
 a.godbey@k12.wv.us\n\nPST Class Registrations\n\nGo to:  https://pstachi
 o.wvnet.edu/\n\nIf you don’t have an account\, click Register.\n\n 	Unde
 r location\, select the correct region of the hosted class.\n 	Parkersburg
 : Calhoun\, Gilmer\, Jackson\, Mason\, Putnam\, Roane\, Wirt\, Wood\n 	Cha
 rleston: Boone\, Cabell\, Clay\, Kanawha\, Lincoln\, Logan\, Mingo\, Wayne
 \n 	Complete all of the information.\n\n 	WVOEMS # is not applicable\, if 
 you do not have a WVOEMS account\n\n\n 	Verify account through the email y
 ou receive from PSTachio.\n\n 	Once you have verified your account\, the r
 espective PST Regional Coordinator and Specialist will receive a notificat
 ion to approve your account.\n\n\n 	After your account has been approved\,
  you need to log in using the email address and password you set up.\n 	Cl
 ick Registration\n 	Enter the course number provided to you for the respec
 tive course.\n\n 	Parkersburg 21-XXX-05\n 	Charleston 21-XXX-03\n\n\n 	Pre
 ss Enter after the course number is entered\n 	Click Register\n\n 	You sho
 uld be rerouted to your Transcript.\n\n\n\n**If you have taken PST courses
  but have never created an account or try to register and are prompted wit
 h an account already exists for that username\, contact your local PST for
  a password reset.\n\n**Using the email address and password will allow yo
 u to review your transcript for all PST classes you have taken since July 
 2016\, provided you have used the same email address for each region.  If
  you have taken a class and received a certificate\, but it doesn’t show
  up on your transcript\, contact the PST office for the area you took the 
 course.\n\n**If you are unable to log in\, please contact Eva Godbey for a
  password reset.  Eva.godbey@k12.wv.us or (304) 766-0011 ext. 22.
CATEGORIES:WVPST Charleston
LOCATION:Ona VFD\, 2900 Howell's Mill Road\, Ona\, WV\, 25545\, United Stat
 es
GEO:38.42676;-82.215667
X-APPLE-STRUCTURED-LOCATION;VALUE=URI;X-ADDRESS=2900 Howell's Mill Road\, O
 na\, WV\, 25545\, United States;X-APPLE-RADIUS=100;X-TITLE=Ona VFD:geo:38.
 42676,-82.215667
END:VEVENT
BEGIN:VTIMEZONE
TZID:America/New_York
X-LIC-LOCATION:America/New_York
BEGIN:DAYLIGHT
DTSTART:20220313T030000
TZOFFSETFROM:-0500
TZOFFSETTO:-0400
TZNAME:EDT
END:DAYLIGHT
END:VTIMEZONE
END:VCALENDAR