BEGIN:VCALENDAR
VERSION:2.0
PRODID:-//wp-events-plugin.com//7.2.3.1//EN
TZID:America/New_York
X-WR-TIMEZONE:America/New_York
BEGIN:VEVENT
UID:2121@wvpst.org
DTSTART;TZID=America/New_York:20220711T080000
DTEND;TZID=America/New_York:20220711T170000
DTSTAMP:20220630T201246Z
URL:https://wvpst.org/events/ics-300-3/
SUMMARY:ICS 300
DESCRIPTION:West Virginia\n\nEmergency Management Division\n\nICS-300 and 4
 00 \n\nIntermediate ICS for Expanding Incidents\n\nDates:  ICS 300 July 1
 1-12\, 2022 (0800-1600)\n\nICS 400 July 13-14\, 2022 (0800-1600)\n\nLocati
 on: WV State Police PDC\, 135 Academy Dr. Dunbar\, WV 25064\n\n* Course i
 s FREE * Student materials will be provided\; Travel and meals are NOT inc
 luded. It is recommended students bring a laptop for the course material\,
  however hard copies of the ICS manuals can be provided as necessary.\n\nI
 nstructor: Brent Burger  \n\nDescription: These ICS courses are designed
  for those emergency response personnel who would function in a Command or
  General Staff position during a large\, complex incident or event or pers
 onnel who are or would likely be part of a local or regional Incident Mana
 gement Team during a major incident\, whether single agency\, multiagency 
 or Unified Command. Total course program for ICS-300 and 400 is 4 days\, i
 ndividual registration links are provided for students seeking ICS 300 or 
 400 individually.\n\n&nbsp\;\n\nPrerequisites: ICS-100\, ICS-200\, IS/ICS-
 700\, IS/ICS-800\n\nPreferred courses are Q0462 and Q0463\n\nRegistration:
   Follow the guidelines in the attached document using the course number 
 in this posting.  Registration closes July 10th\n\nPSTachio.wvnet.edu  \
 n\nICS 300:  7/11-12/22 23-004-03 WVPST Charleston\n\nICS 400:  7/13-14/
 22 23-011-03 WVPST Charleston\n\nIf you have any questions or issues regis
 tering\, please contact Eva Godbey at eva.godbey@k12.wv.us\n\nPST Class 
 Registrations\n\nGo to:  https://pstachio.wvnet.edu/\n\nIf you don’t h
 ave an account\, click Register.\n\n 	Under location\, select the correct 
 region of the hosted class.\n 	Parkersburg: Calhoun\, Gilmer\, Jackson\, M
 ason\, Putnam\, Roane\, Wirt\, Wood\n 	Charleston: Boone\, Cabell\, Clay\,
  Kanawha\, Lincoln\, Logan\, Mingo\, Wayne\n 	Complete all of the informat
 ion.\n\n 	WVOEMS # is not applicable\, if you do not have a WVOEMS account
 \n\n\n 	Verify account through the email you receive from PSTachio.\n\n 	O
 nce you have verified your account\, the respective PST Regional Coordinat
 or and Specialist will receive a notification to approve your account.\n\n
 \n 	After your account has been approved\, you need to log in using the em
 ail address and password you set up.\n 	Click Registration\n 	Enter the co
 urse number provided to you for the respective course.\n\n 	Parkersburg 21
 -XXX-05\n 	Charleston 21-XXX-03\n\n\n 	Press Enter after the course number
  is entered\n 	Click Register\n\n 	You should be rerouted to your Transcri
 pt.\n\n\n\n**If you have taken PST courses but have never created an accou
 nt or try to register and are prompted with an account already exists for 
 that username\, contact your local PST for a password reset.\n\n**Using th
 e email address and password will allow you to review your transcript for 
 all PST classes you have taken since July 2016\, provided you have used th
 e same email address for each region.  If you have taken a class and rece
 ived a certificate\, but it doesn’t show up on your transcript\, contact
  the PST office for the area you took the course.\n\n**If you are unable t
 o log in\, please contact Eva Godbey for a password reset.  Eva.godbey@k
 12.wv.us or (304) 766-0011 ext. 22.
CATEGORIES:WVPST All
LOCATION:WV State Police PDC\, 135 Academy Dr.\, Dunbar\, WV\, 25064\, Unit
 ed States
GEO:38.38147;-81.758663
X-APPLE-STRUCTURED-LOCATION;VALUE=URI;X-ADDRESS=135 Academy Dr.\, Dunbar\, 
 WV\, 25064\, United States;X-APPLE-RADIUS=100;X-TITLE=WV State Police PDC:
 geo:38.38147,-81.758663
END:VEVENT
BEGIN:VTIMEZONE
TZID:America/New_York
X-LIC-LOCATION:America/New_York
BEGIN:DAYLIGHT
DTSTART:20220313T030000
TZOFFSETFROM:-0500
TZOFFSETTO:-0400
TZNAME:EDT
END:DAYLIGHT
END:VTIMEZONE
END:VCALENDAR