BEGIN:VCALENDAR
VERSION:2.0
PRODID:-//wp-events-plugin.com//7.2.3.1//EN
TZID:America/New_York
X-WR-TIMEZONE:America/New_York
BEGIN:VEVENT
UID:1831@wvpst.org
DTSTART;TZID=America/New_York:20210811T083000
DTEND;TZID=America/New_York:20210811T173000
DTSTAMP:20210803T165403Z
URL:https://wvpst.org/events/ics-300-2/
SUMMARY:ICS-300
DESCRIPTION:WV Public Service Training is pleased to announce an ICS: 300: 
 Intermediate Incident Command System on August 11-12 from 8:30 am - 5:30 p
 m at St. Albans Armory (610 Dames St.\, St. Albans\, WV 25177).\n\nThis co
 urse expands upon information covered in the ICS-100 &amp\; ICS 200 course
 s. This course is intended for individuals who may assume a supervisory r
 ole in expanding incidents or Type 3 incidents.\n\nCertification for this 
 class will be a FEMA certificate.\n\n MUST BRING LAPTOP TO CLASS!\n\n Pr
 erequisites: ICS-100\, ICS-200\, IS/ICS-700\, IS/ICS-800 (You may either e
 mail copies of certificates to eva.godbey@k12.wv.us or present them the fi
 rst day of class)\n\n Tuition: $35/person\n\n Supply Fee: $10/person\n\n
  Location: St. Albans Armory (610 Dames St.\, St. Albans\, WV 25177)\n\n
  Date: August 11 &amp\; 12\, 2021\n\n Time: 0830-1730\n\nInstructor: Br
 ent Burger\n\n Pre-registration REQUIRED!\n\n To Register: Follow the gu
 idelines in the attached document using the course number in this posting.
  WVPST is adopting a new registration platform that we believe will be mor
 e user-friendly. Should you have any issues\, please contact Eva Godbey at
  eva.godbey@k12.wv.us. \n\n Class Numbers: 22-011-03\n\n Link: www.psta
 chio.wvnet.edu (If link doesn't work\, use Google Chrome and search PSTach
 io.wvnet.edu)\n\nIf you don’t have an account\, click Register.\n\n 	Und
 er location\, select the correct region of the hosted class.\n 	Parkersbur
 g: Calhoun\, Gilmer\, Jackson\, Mason\, Putnam\, Roane\, Wirt\, Wood\n 	Ch
 arleston: Boone\, Cabell\, Clay\, Kanawha\, Lincoln\, Logan\, Mingo\, Wayn
 e\n 	Complete all of the information.\n\n 	WVOEMS # is not applicable\, if
  you do not have a WVOEMS account\n\n\n 	Verify account through the email 
 you receive from PSTachio.\n\n 	Once you have verified your account\, the 
 respective PST Regional Coordinator and Specialist will receive a notifica
 tion to approve your account.\n\n\n 	After your account has been approved\
 , you need to log in using the email address and password you set up.\n 	C
 lick Registration\n 	Enter the course number provided to you for the respe
 ctive course.\n\n 	Parkersburg 21-XXX-05\n 	Charleston 21-XXX-03\n\n\n 	Pr
 ess Enter after the course number is entered\n 	Click Register\n\n 	You sh
 ould be rerouted to your Transcript.\n\n\n\n**If you have taken PST course
 s but have never created an account or try to register and are prompted wi
 th an account already exists for that username\, contact your local PST fo
 r a password reset.\n\n**Using the email address and password will allow y
 ou to review your transcript for all PST classes you have taken since July
  2016\, provided you have used the same email address for each region.  I
 f you have taken a class and received a certificate\, but it doesn’t sho
 w up on your transcript\, contact the PST office for the area you took the
  course.\n\n**If you are unable to log in\, please contact Eva Godbey for 
 a password reset.  Eva.godbey@k12.wv.us or (304) 766-0011 ext. 22.
CATEGORIES:WVPST Charleston
LOCATION:St. Albans Armory\, 610 Dames St.\, St. Albans\, WV\, 25177\, Unit
 ed States
GEO:38.385435;-81.845072
X-APPLE-STRUCTURED-LOCATION;VALUE=URI;X-ADDRESS=610 Dames St.\, St. Albans\
 , WV\, 25177\, United States;X-APPLE-RADIUS=100;X-TITLE=St. Albans Armory:
 geo:38.385435,-81.845072
END:VEVENT
BEGIN:VTIMEZONE
TZID:America/New_York
X-LIC-LOCATION:America/New_York
BEGIN:DAYLIGHT
DTSTART:20210314T030000
TZOFFSETFROM:-0500
TZOFFSETTO:-0400
TZNAME:EDT
END:DAYLIGHT
END:VTIMEZONE
END:VCALENDAR