BEGIN:VCALENDAR
VERSION:2.0
PRODID:-//wp-events-plugin.com//7.2.3.1//EN
TZID:America/New_York
X-WR-TIMEZONE:America/New_York
BEGIN:VEVENT
UID:3014@wvpst.org
DTSTART;TZID=America/New_York:20260530T090000
DTEND;TZID=America/New_York:20260530T170000
DTSTAMP:20260422T175219Z
URL:https://wvpst.org/events/heavy-vehicle-rescue-technician/
SUMMARY:Heavy Vehicle Rescue Technician
DESCRIPTION:A 16 hour heavy vehicle rescue technician course is being held 
 at Winfield District VFD (Marion County) on Saturday May 30 and Sunday Jun
 e 7\, 2026 from 9am to 5pm each day.  This class meets NFPA JPRs for heav
 y vehicle rescue technician as well as the skills for IFSAC certification 
 (additional written exam required).  Michael Wilburn is the lead instruct
 or.  Students must come prepared for each class session with PPE appropri
 ate for vehicle rescue\, including eye protection.\n\nCost of the class is
  $50 tuition\, $85 for the textbook\, and an additional $25 testing fee fo
 r anyone wishing to test for IFSAC certification.\n\nClick here to registe
 r.
CATEGORIES:WVPST Clarksburg
LOCATION:Winfield District VFD\, 112 Firehouse Rd.\, Fairmont\, WV\, United
  States
GEO:39.492353;-80.094063
X-APPLE-STRUCTURED-LOCATION;VALUE=URI;X-ADDRESS=112 Firehouse Rd.\, Fairmon
 t\, WV\, United States;X-APPLE-RADIUS=100;X-TITLE=Winfield District VFD:ge
 o:39.492353,-80.094063
END:VEVENT
BEGIN:VTIMEZONE
TZID:America/New_York
X-LIC-LOCATION:America/New_York
BEGIN:DAYLIGHT
DTSTART:20260308T030000
TZOFFSETFROM:-0500
TZOFFSETTO:-0400
TZNAME:EDT
END:DAYLIGHT
END:VTIMEZONE
END:VCALENDAR