BEGIN:VCALENDAR
VERSION:2.0
PRODID:-//wp-events-plugin.com//7.2.3.1//EN
TZID:America/New_York
X-WR-TIMEZONE:America/New_York
BEGIN:VEVENT
UID:2143@wvpst.org
DTSTART;TZID=America/New_York:20220720T190000
DTEND;TZID=America/New_York:20220720T210000
DTSTAMP:20220719T124443Z
URL:https://wvpst.org/events/heart-failure-ems-ce/
SUMMARY:Heart Failure EMS CE
DESCRIPTION:CLASS DATE: July 20th\, 2022\n\nTIMES: 1900 TO 2100\n\nLOCATION
 : Lubeck VFD (1340 Harris Highway\, Parkersburg\, WV 26101)\n\nSPONSORED B
 Y: Lubeck VFD\, WV Public Service Training- Mid-Ohio Valley\nRegion\, WCFF
 A\, SJAS\n\nREGISTRATION FEE: None\n\nWV Continuing Education Hours will b
 e Awarded\n\nA LIGHT DINNER WILL BE SERVED\n\nTo Register: Follow the guid
 elines in the attached document using the course\nnumber in this posting. 
 WVPST is adopting a new registration platform that we\nbelieve will be mor
 e user-friendly. Should you have any issues\, please contact\nEva Godbey a
 t eva.godbey@k12.wv.us.\n\nLink: PSTachio - Welcome (wvnet.edu) (If link d
 oesn't work\, use Google Chrome and\nsearch PSTachio.wvnet.edu)\n\nBLS- Co
 urse ID: 23-019-05 WVPST Parkersburg\n\nALS- Course ID: 23-018-05 WVPST Pa
 rkersburg\n\nCONTACT FOR INFORMATION: Michael E. Tanner\n(304) 482-9894\nt
 annerme@suddenlink.net\n\nPST Class Registrations\n\nGo to:  https://pst
 achio.wvnet.edu/\n\nIf you don’t have an account\, click Register.\n\n 	
 Under location\, select the correct region of the hosted class.\n 	Parkers
 burg: Calhoun\, Gilmer\, Jackson\, Mason\, Putnam\, Roane\, Wirt\, Wood\n 
 	Charleston: Boone\, Cabell\, Clay\, Kanawha\, Lincoln\, Logan\, Mingo\, W
 ayne\n 	Complete all of the information.\n\n 	WVOEMS # is not applicable\,
  if you do not have a WVOEMS account\n\n\n 	Verify account through the ema
 il you receive from PSTachio.\n\n 	Once you have verified your account\, t
 he respective PST Regional Coordinator and Specialist will receive a notif
 ication to approve your account.\n\n\n 	After your account has been approv
 ed\, you need to log in using the email address and password you set up.\n
  	Click Registration\n 	Enter the course number provided to you for the re
 spective course.\n\n 	Parkersburg 21-XXX-05\n 	Charleston 21-XXX-03\n\n\n 
 	Press Enter after the course number is entered\n 	Click Register\n\n 	You
  should be rerouted to your Transcript.\n\n\n\n**If you have taken PST cou
 rses but have never created an account or try to register and are prompted
  with an account already exists for that username\, contact your local PST
  for a password reset.\n\n**Using the email address and password will allo
 w you to review your transcript for all PST classes you have taken since J
 uly 2016\, provided you have used the same email address for each region.
   If you have taken a class and received a certificate\, but it doesn’t
  show up on your transcript\, contact the PST office for the area you took
  the course.\n\n**If you are unable to log in\, please contact Eva Godbey 
 for a password reset.  Eva.godbey@k12.wv.us or (304) 766-0011 ext. 22.
CATEGORIES:WVPST Parkersburg
LOCATION:Lubeck VFD\, 1340 Harris Highway\, Parkersburg\, WV\, 26101\, Unit
 ed States
GEO:39.2400978;-81.62784399999998
X-APPLE-STRUCTURED-LOCATION;VALUE=URI;X-ADDRESS=1340 Harris Highway\, Parke
 rsburg\, WV\, 26101\, United States;X-APPLE-RADIUS=100;X-TITLE=Lubeck VFD:
 geo:39.2400978,-81.62784399999998
END:VEVENT
BEGIN:VTIMEZONE
TZID:America/New_York
X-LIC-LOCATION:America/New_York
BEGIN:DAYLIGHT
DTSTART:20220313T030000
TZOFFSETFROM:-0500
TZOFFSETTO:-0400
TZNAME:EDT
END:DAYLIGHT
END:VTIMEZONE
END:VCALENDAR