BEGIN:VCALENDAR
VERSION:2.0
PRODID:-//wp-events-plugin.com//7.2.3.1//EN
TZID:America/New_York
X-WR-TIMEZONE:America/New_York
BEGIN:VEVENT
UID:1270@wvpst.org
DTSTART;TZID=America/New_York:20200506T190000
DTEND;TZID=America/New_York:20200506T220000
DTSTAMP:20200420T143710Z
URL:https://wvpst.org/events/hazmat-awareness-and-operations-5/
SUMMARY:HazMat Awareness and Operations
DESCRIPTION:HazMat Awareness and Operations\n\nNOTE: Public Service Trainin
 g is currently not starting any new classes because of the coronavirus pan
 demic. No one knows when that moratorium on new classes may be lifted.  T
 his class will not start on May 6.  The new start date for this class wil
 l be announced after the moratorium on training has been lifted.\n\nA 34-h
 our Hazardous Materials Awareness and Operations class will be held at Fri
 endship Fire Co in Harpers Ferry starting Wednesday May 6\, 2020 at 7:00 p
 m.  The class will meet Wednesdays at 7 and Saturdays at 9.  The class i
 s part of a Firefighter 1 class\, but is open to others.  Instructors are
  Donald Longerbeam\, Ronnie Shutts\, and Scott Biller.  Class Fee $45. Bo
 ok $75.\n\nClick here for a Course Flyer
CATEGORIES:WVPST Martinsburg
LOCATION:Friendship Fire Co\, 1050 Washington St\, Harpers Ferry\, United S
 tates
GEO:39.3266318;-77.7453504
X-APPLE-STRUCTURED-LOCATION;VALUE=URI;X-ADDRESS=1050 Washington St\, Harper
 s Ferry\, United States;X-APPLE-RADIUS=100;X-TITLE=Friendship Fire Co:geo:
 39.3266318,-77.7453504
END:VEVENT
BEGIN:VTIMEZONE
TZID:America/New_York
X-LIC-LOCATION:America/New_York
BEGIN:DAYLIGHT
DTSTART:20200308T030000
TZOFFSETFROM:-0500
TZOFFSETTO:-0400
TZNAME:EDT
END:DAYLIGHT
END:VTIMEZONE
END:VCALENDAR