BEGIN:VCALENDAR
VERSION:2.0
PRODID:-//wp-events-plugin.com//7.2.3.1//EN
TZID:America/New_York
X-WR-TIMEZONE:America/New_York
BEGIN:VEVENT
UID:419@wvpst.org
DTSTART;TZID=America/New_York:20180322T180000
DTEND;TZID=America/New_York:20180322T220000
DTSTAMP:20180221T182235Z
URL:https://wvpst.org/events/hazmat-awareness-8/
SUMMARY:HazMat Awareness
DESCRIPTION:The 4-hour Hazardous Materials Awareness class meets NFPA 472\,
  2013 edition.  This class includes a complete review of the DOT Emergenc
 y Response Guidebook.  The ERG is the only text for this class.  IFSAC T
 esting is available.\n\n&nbsp\;\n\nLocation:      Caperton Center\n\nDa
 tes:          March 22\, 2018\n\nDays:           Thursday: 6
  pm – 10 pm\n\nInstructor (s): Jim Reynolds \n\nFee:   $20 payable t
 o RESA 5\n\nTo Register\, please contact Eva Godbey at 304-865-1311 or Ri
 ck Gobble at 304-865-1312.  \n\nName:  _________________________________
 ____________________________________\n\nDate of Birth:  _________________
 ______________________________________________\n\nAddress: _______________
 _____________________________________________________\n\nCity/State:  ___
 __________________________________________ Postal Code: __________\n\nPhon
 e Number: ________________ Email Address: ________________________________
 _\n\nAffiliation: ________________________________________________________
 __________\n\nPRE—REGISTRATION required to guarantee a seat\n\nPlease s
 end the above information to Eva Godbey at eva.godbey@k12.wv.us
CATEGORIES:WVPST Parkersburg
LOCATION:Caperton Center\, 300 Campus Dr.\, Parkersburg\, WV\, 26104\, Unit
 ed States
GEO:39.2167554;-81.50572790000001
X-APPLE-STRUCTURED-LOCATION;VALUE=URI;X-ADDRESS=300 Campus Dr.\, Parkersbur
 g\, WV\, 26104\, United States;X-APPLE-RADIUS=100;X-TITLE=Caperton Center:
 geo:39.2167554,-81.50572790000001
END:VEVENT
BEGIN:VTIMEZONE
TZID:America/New_York
X-LIC-LOCATION:America/New_York
BEGIN:DAYLIGHT
DTSTART:20180311T030000
TZOFFSETFROM:-0500
TZOFFSETTO:-0400
TZNAME:EDT
END:DAYLIGHT
END:VTIMEZONE
END:VCALENDAR