BEGIN:VCALENDAR
VERSION:2.0
PRODID:-//wp-events-plugin.com//7.2.3.1//EN
TZID:America/New_York
X-WR-TIMEZONE:America/New_York
BEGIN:VEVENT
UID:2573@wvpst.org
DTSTART;TZID=America/New_York:20230909T080000
DTEND;TZID=America/New_York:20230909T080000
DTSTAMP:20230906T130120Z
URL:https://wvpst.org/events/hazardous-materials-awareness-operations-6/
SUMMARY:CANCELLED ~ Hazardous Materials Awareness & Operations
DESCRIPTION:Due to lack of registrations\, the Hazardous Materials Awarenes
 s & Hazardous Materials Operations classes beginning September 9\, 2023 ha
 s been cancelled. We apologize for the inconvenience.\n \n-WVPST\n \n~~~~~
 ~~~~~~~~~~~~~~~~~~~~~~\n\n\nThe WV Emergency Management Division has partn
 ered with WVPST to offer a Hazardous Materials Awareness Courses at WVPST 
 Dunbar. The class will be from 0800-1200 on September 9th leading into Haz
 ardous Materials Operations from 1300-1800 on September 9th and continuing
  0800-1800 on September 10\, 16\, and 17\, 2023. \n\nHMA Description: The 
 4-hour Hazardous Materials Awareness class meets NFPA 470\, 2022 edition. 
 This class includes a complete review of the DOT Emergency Response Guideb
 ook. The ERG is the only text for this class. IFSAC Testing is available. 
 \n\nHMO Description: The 34-hour Hazardous Materials Awareness/Operations 
 class meets NFPA 470\, 2022 edition including product control and PPE. Par
 ticipants learn defensive operations and decontamination techniques. The t
 ext is Jones and Bartlett “Hazardous Materials Awareness and Operations
 ” 4th Edition and the Emergency Response Guidebook. The class may also u
 se the Firefighter textbook. IFSAC Testing is available.\n \nPrerequisites
 : None\n\nLocation: \nWVPST Dunbar\n501 22nd St.\nDunbar\, WV 25064\n\nDat
 e: September 9\, 10\, 16\, & 17\, 2023\n\nTime: 8:00am - 6:00pm daily\n\nT
 o Register: Follow the guidelines in the attached document using the cours
 e number in this posting. WVPST is adopting a new registration platform th
 at we believe will be more user-friendly. Should you have any issues\, ple
 ase contact Eva Godbey at eva.godbey@k12.wv.us.  \n \nLink: www.pstachio.w
 vnet.edu (If link doesn't work\, use Google Chrome and search PSTachio.wvn
 et.edu)\n \nCourse ID: \nHMA: 24-101-03 WVPST Charleston\nHMO: 24-103-03 W
 VPST Charleston\n\nIf you have any questions or issues registering\, pleas
 e contact Eva Godbey at eva.godbey@k12.wv.us\n\nQuestions: Contact Brent B
 urger\, (304) 414-4605 or brent.a.burger@wv.gov\n\n
CATEGORIES:WVPST Charleston
LOCATION:WVPST - Charleston\, 501 22nd St.\, Dunbar\, 25064\, United States
GEO:38.366469;-81.74986519999999
X-APPLE-STRUCTURED-LOCATION;VALUE=URI;X-ADDRESS=501 22nd St.\, Dunbar\, 250
 64\, United States;X-APPLE-RADIUS=100;X-TITLE=WVPST - Charleston:geo:38.36
 6469,-81.74986519999999
END:VEVENT
BEGIN:VTIMEZONE
TZID:America/New_York
X-LIC-LOCATION:America/New_York
BEGIN:DAYLIGHT
DTSTART:20230312T030000
TZOFFSETFROM:-0500
TZOFFSETTO:-0400
TZNAME:EDT
END:DAYLIGHT
END:VTIMEZONE
END:VCALENDAR