BEGIN:VCALENDAR
VERSION:2.0
PRODID:-//wp-events-plugin.com//7.2.3.1//EN
TZID:America/New_York
X-WR-TIMEZONE:America/New_York
BEGIN:VEVENT
UID:1018@wvpst.org
DTSTART;TZID=America/New_York:20190831T080000
DTEND;TZID=America/New_York:20190831T170000
DTSTAMP:20190805T183019Z
URL:https://wvpst.org/events/hazardous-materials-awareness-operations-3/
SUMMARY:Hazardous Materials Awareness/Operations
DESCRIPTION:Hazardous Materials Awareness/Operations\n\nThe 34-hour Hazardo
 us Materials Awareness/Operations class meets NFPA 472\, 2013 edition incl
 uding product control and PPE.  Participants learn defensive operations a
 nd decontamination techniques.  The text is Jones and Bartlett “Hazardo
 us Materials Awareness and Operations” 2nd Edition and the Emergency Res
 ponse Guidebook.  The class may also use the Firefighter textbook.  IFSA
 C Testing is available.\n\nClass Meetings: August 31\; September 1\, 7\, &
 amp\; 8\, 2019\n\nLocation:  Parkersburg Fire Dept. (2311 Camden Ave.\, P
 arkersburg\, WV 26101)\n\nCost:  $145 includes Textbook\, ERG\, and Regis
 tration Fee\n\nInstructor:  Mike Daley\n\nYou may copy the below informat
 ion into an email and submit to eva.godbey@k12.wv.us to register:\n\nName:
   ___________________________________________________________\n\n Date o
 f Birth:  ______________________________________________________\n\n Add
 ress: _________________________________________________________\n\nCity/St
 ate:  _____________________________________________ \n\nPostal Code: ____
 ______\n\nPhone Number: ________________ \n\nEmail Address: ______________
 ___________________\n\n Affiliation: ____________________________________
 ___________________\n\nFor Registration please contact Ms. Eva Godbey at 3
 04-766-0011 ext. 22.
CATEGORIES:WVPST Parkersburg
LOCATION:Parkersburg Fire Station 6\, 2311 Camden Ave.\, Parkersburg\, WV\,
  25101\, United States
GEO:39.2551835;-81.54927780000003
X-APPLE-STRUCTURED-LOCATION;VALUE=URI;X-ADDRESS=2311 Camden Ave.\, Parkersb
 urg\, WV\, 25101\, United States;X-APPLE-RADIUS=100;X-TITLE=Parkersburg Fi
 re Station 6:geo:39.2551835,-81.54927780000003
END:VEVENT
BEGIN:VTIMEZONE
TZID:America/New_York
X-LIC-LOCATION:America/New_York
BEGIN:DAYLIGHT
DTSTART:20190310T030000
TZOFFSETFROM:-0500
TZOFFSETTO:-0400
TZNAME:EDT
END:DAYLIGHT
END:VTIMEZONE
END:VCALENDAR