BEGIN:VCALENDAR
VERSION:2.0
PRODID:-//wp-events-plugin.com//7.2.3.1//EN
TZID:America/New_York
X-WR-TIMEZONE:America/New_York
BEGIN:VEVENT
UID:2569@wvpst.org
DTSTART;TZID=America/New_York:20230830T180000
DTEND;TZID=America/New_York:20230830T220000
DTSTAMP:20230817T182206Z
URL:https://wvpst.org/events/hazardous-materials-awareness-5/
SUMMARY:Hazardous Materials Awareness
DESCRIPTION:The WV Emergency Management Division has partnered with WVPST t
 o offer a Hazardous Materials Awareness Course at Nicholas County 911 Cent
 er. The second class is on August 30th. \n\nDescription: The 4-hour Hazard
 ous Materials Awareness class meets NFPA 470\, 2022 edition. This class in
 cludes a complete review of the DOT Emergency Response Guidebook. The ERG 
 is the only text for this class. IFSAC Testing is available. WVOEMS credit
 s will be available for each class.\n \nPrerequisites: None\n\nLocation: \
 nNicholas County 911 Center\n449 Water St.\nSummersville\, WV 26651\n\nDat
 e: August 30\, 2023\n\nTime: 6:00pm - 10:00pm daily\n\nTo Register: Follow
  the guidelines in the attached document using the course number in this p
 osting. WVPST is adopting a new registration platform that we believe will
  be more user-friendly. Should you have any issues\, please contact Eva Go
 dbey at eva.godbey@k12.wv.us.  \n \nLink: www.pstachio.wvnet.edu (If link 
 doesn't work\, use Google Chrome and search PSTachio.wvnet.edu)\n \nCourse
  ID: \n8/30/23: 24-100-03 WVPST Charleston\n\nIf you have any questions or
  issues registering\, please contact Eva Godbey at eva.godbey@k12.wv.us\n\
 nQuestions: Contact Brent Burger\, (304) 414-4605 or brent.a.burger@wv.gov
 \n\n
CATEGORIES:WVPST Charleston
LOCATION:Nicholas County 911 Center\, 449 Water St.\, Summersville\, WV\, 2
 6651\, United States
GEO:38.282309;-80.856158
X-APPLE-STRUCTURED-LOCATION;VALUE=URI;X-ADDRESS=449 Water St.\, Summersvill
 e\, WV\, 26651\, United States;X-APPLE-RADIUS=100;X-TITLE=Nicholas County 
 911 Center:geo:38.282309,-80.856158
END:VEVENT
BEGIN:VTIMEZONE
TZID:America/New_York
X-LIC-LOCATION:America/New_York
BEGIN:DAYLIGHT
DTSTART:20230312T030000
TZOFFSETFROM:-0500
TZOFFSETTO:-0400
TZNAME:EDT
END:DAYLIGHT
END:VTIMEZONE
END:VCALENDAR