BEGIN:VCALENDAR
VERSION:2.0
PRODID:-//wp-events-plugin.com//7.2.3.1//EN
TZID:America/New_York
X-WR-TIMEZONE:America/New_York
BEGIN:VEVENT
UID:2568@wvpst.org
DTSTART;TZID=America/New_York:20230823T180000
DTEND;TZID=America/New_York:20230823T220000
DTSTAMP:20230823T195945Z
URL:https://wvpst.org/events/hazardous-materials-awareness-4/
SUMMARY:CANCELLED ~ Hazardous Materials Awareness
DESCRIPTION:Due to lack of registrations\, the Hazardous Materials Awarenes
 s class on August 23\, 2023 has been cancelled. If you were planning to co
 me tonight\, please register for the August 30\, 2023 session. We apologiz
 e for the inconvenience.\n\n-WVPST\n\n\nThe WV Emergency Management Divisi
 on has partnered with WVPST to offer two (2) Hazardous Materials Awareness
  Courses at Nicholas County 911 Center. The first will be on August 23rd w
 ith a second class on August 30th. \n\nDescription: The 4-hour Hazardous M
 aterials Awareness class meets NFPA 470\, 2022 edition. This class include
 s a complete review of the DOT Emergency Response Guidebook. The ERG is th
 e only text for this class. IFSAC Testing is available. WVOEMS credits wil
 l be available for each class.\n \nPrerequisites: None\n\nLocation: \nNich
 olas County 911 Center\n449 Water St.\nSummersville\, WV 26651\n\nDate: Au
 gust 23 or 30\, 2023\n\nTime: 6:00pm - 10:00pm daily\n\nTo Register: Follo
 w the guidelines in the attached document using the course number in this 
 posting. WVPST is adopting a new registration platform that we believe wil
 l be more user-friendly. Should you have any issues\, please contact Eva G
 odbey at eva.godbey@k12.wv.us.  \n \nLink: www.pstachio.wvnet.edu (If link
  doesn't work\, use Google Chrome and search PSTachio.wvnet.edu)\n \nCours
 e ID: \n8/23/23: 24-099-03 WVPST Charleston\n8/30/23: 24-100-03 WVPST Char
 leston\n\nIf you have any questions or issues registering\, please contact
  Eva Godbey at eva.godbey@k12.wv.us\n\nQuestions: Contact Brent Burger\, (
 304) 414-4605 or brent.a.burger@wv.gov\n\n
CATEGORIES:WVPST Charleston
LOCATION:Nicholas County 911 Center\, 449 Water St.\, Summersville\, WV\, 2
 6651\, United States
GEO:38.282309;-80.856158
X-APPLE-STRUCTURED-LOCATION;VALUE=URI;X-ADDRESS=449 Water St.\, Summersvill
 e\, WV\, 26651\, United States;X-APPLE-RADIUS=100;X-TITLE=Nicholas County 
 911 Center:geo:38.282309,-80.856158
END:VEVENT
BEGIN:VTIMEZONE
TZID:America/New_York
X-LIC-LOCATION:America/New_York
BEGIN:DAYLIGHT
DTSTART:20230312T030000
TZOFFSETFROM:-0500
TZOFFSETTO:-0400
TZNAME:EDT
END:DAYLIGHT
END:VTIMEZONE
END:VCALENDAR