BEGIN:VCALENDAR
VERSION:2.0
PRODID:-//wp-events-plugin.com//7.2.3.1//EN
TZID:America/New_York
X-WR-TIMEZONE:America/New_York
BEGIN:VEVENT
UID:2467@wvpst.org
DTSTART;TZID=America/New_York:20230523T083000
DTEND;TZID=America/New_York:20230523T163000
DTSTAMP:20230427T181701Z
URL:https://wvpst.org/events/g-0191-fema-ics-eoc-interface-couse/
SUMMARY:G-0191 FEMA ICS/EOC Interface Couse
DESCRIPTION:Please find attached information for a G-191 ICS/EOC Interface 
 Course to be held at Monongalia County Health Department. \n\nDescription\
 n\nThis 1-day course provides an overview to the roles and responsibilitie
 s of first responders operating under the Incident Command System (ICS). F
 urther\, it explains how the Incident Commander and the IC Staff interface
  with local Emergency Operations Centers (EOCs) during emergencies or disa
 sters.\n\nPrerequisites and Requirements: \n\nIS-0100 An Introduction to t
 he Incident Command System\, ICS 100\n\nIS-0700 An Introduction to the Nat
 ional Incident Management System\n\nIS-0800 National Response Framework (N
 RF)\, An Introduction\n\nIS-0200 Basic Incident Command System for Initial
  Response\, ICS 200\n\nOr\n\nIS-2200 Basic Emergency Operations Center Fun
 ctions\n\nLocation: \n\nMonongalia County Health Department\n\n453 Van Voo
 rhis Rd.\n\nMorgantown\, WV 26505\n\nDate: 5/23/23\n\nTime: 8:30am-4:30pm\
 n\nTo Register: Follow the guidelines in the attached document using the c
 ourse number in this posting. WVPST is adopting a new registration platfor
 m that we believe will be more user-friendly. Should you have any issues\,
  please contact Eva Godbey at eva.godbey@k12.wv.us.\n\nLink: www.pstachio.
 wvnet.edu (If link doesn't work\, use Google Chrome and search PSTachio.wv
 net.edu)\n\nCourse ID: 23-579-03 WVPST Charleston\n\n Please find attache
 d information for a G-191 ICS/EOC Interface Course to be held at Monongali
 a County Health Department. When registering\, use WV-PST Charleston as th
 e location and the course number is 23-579-03. If you have questions plea
 se let me know and share this with anyone who would benefit from this tr
 aining.. \n\nIf you have any questions or issues registering\, please con
 tact Eva Godbey at eva.godbey@k12.wv.us\n\nQuestions: Contact Brent Burge
 r\, (304) 414-4605 or brent.a.burger@wv.gov\n\n 
CATEGORIES:WVPST All
LOCATION:Monongalia County Health Department\, 453 Van Voorhis Rd.\, Morgan
 town\, WV\, 26505\, United States
GEO:39.652898;-79.961718
X-APPLE-STRUCTURED-LOCATION;VALUE=URI;X-ADDRESS=453 Van Voorhis Rd.\, Morga
 ntown\, WV\, 26505\, United States;X-APPLE-RADIUS=100;X-TITLE=Monongalia C
 ounty Health Department:geo:39.652898,-79.961718
END:VEVENT
BEGIN:VTIMEZONE
TZID:America/New_York
X-LIC-LOCATION:America/New_York
BEGIN:DAYLIGHT
DTSTART:20230312T030000
TZOFFSETFROM:-0500
TZOFFSETTO:-0400
TZNAME:EDT
END:DAYLIGHT
END:VTIMEZONE
END:VCALENDAR