BEGIN:VCALENDAR
VERSION:2.0
PRODID:-//wp-events-plugin.com//7.2.3.1//EN
TZID:America/New_York
X-WR-TIMEZONE:America/New_York
BEGIN:VEVENT
UID:820@wvpst.org
DTSTART;TZID=America/New_York:20190222T060000
DTEND;TZID=America/New_York:20190222T100000
DTSTAMP:20190128T153507Z
URL:https://wvpst.org/events/fo-1-and-2/
SUMMARY:Fire Officer 1 and 2
DESCRIPTION:Fire Officer 1 and 2\n\nA Fire Officer 1 and 2 class will be he
 ld at Hedgesville VFD starting Friday\, February 22\, 2019 at 6:00 pm.  T
 he class will meet weekends - February 22\, 23\, &amp\; 24\, and March 1\,
  2\, 3\, 9\, &amp\; 10.  Participants are required to complete a signific
 ant amount of classwork outside of scheduled classes.  Mike Athey is the 
 instructor.  This class combines the requirements for Fire Officer 1 and 
 Fire Officer 2 and meets NFPA 1021\, 2014. Participants who successfully c
 omplete the course will receive certificates for Fire Officer 1 and Fire O
 fficer 2. Someone already having Fire Officer 1 must attend the entire cla
 ss to certify for Fire Officer 2. Fire Fighter 2 is a prerequisite for Fir
 e Officer 1. Participants must provide verification of prerequisite to rec
 eive certification. Tuition is $45. Books are $120.\n\nClick here for a Co
 urse Flyer\n\nClick here for more information on FO 1 and 2 class requirem
 ents\n\n&nbsp\;
CATEGORIES:WVPST Martinsburg
LOCATION:Hedgesville VFD\, 4217 Hedgesville Rd\, Martinsburg\, United State
 s
GEO:39.5447624;-77.98962169999998
X-APPLE-STRUCTURED-LOCATION;VALUE=URI;X-ADDRESS=4217 Hedgesville Rd\, Marti
 nsburg\, United States;X-APPLE-RADIUS=100;X-TITLE=Hedgesville VFD:geo:39.5
 447624,-77.98962169999998
END:VEVENT
BEGIN:VTIMEZONE
TZID:America/New_York
X-LIC-LOCATION:America/New_York
BEGIN:STANDARD
DTSTART:20181104T010000
TZOFFSETFROM:-0400
TZOFFSETTO:-0500
TZNAME:EST
END:STANDARD
END:VTIMEZONE
END:VCALENDAR