BEGIN:VCALENDAR
VERSION:2.0
PRODID:-//wp-events-plugin.com//7.2.3.1//EN
TZID:America/New_York
X-WR-TIMEZONE:America/New_York
BEGIN:VEVENT
UID:2670@wvpst.org
DTSTART;TZID=America/New_York:20240217T090000
DTEND;TZID=America/New_York:20240217T170000
DTSTAMP:20231220T032502Z
URL:https://wvpst.org/events/firefighter-2-39/
SUMMARY:Firefighter 2
DESCRIPTION:FIREFIGHTER 2\n\nThis 40-hour course will be conducted at Parso
 ns VFD\, Parsons\, WV (Tucker County). Class dates and times are February 
 17\, 18\, 24\, 25\, and March 2\, 2024.  Class times will be 9am - 5pm ea
 ch session.  Tom Klus is the instructor.\n\nPREREQUISITE:  Firefighter I
  - Students must bring copies of their certificates to the first class.\n\
 nTUITION is $55 per student\; the current edition of “Fundamentals of Fi
 refighter Skills” book will be available from the instructor at a cost o
 f $75 each. Fees may be paid with cash\, money order\, or company/departme
 nt checks made payable to "MSESC."  Tuition must be paid at the first cla
 ss session\, or an authorization to invoice form must be turned in to the 
 course instructor if a department is paying.\n\nClick here to register. 
  
CATEGORIES:WVPST Clarksburg
LOCATION:Parsons Volunteer Fire Department\, 216 Main Street\, Parsons\, WV
 \, 26287\, United States
GEO:39.097583;-79.681684
X-APPLE-STRUCTURED-LOCATION;VALUE=URI;X-ADDRESS=216 Main Street\, Parsons\,
  WV\, 26287\, United States;X-APPLE-RADIUS=100;X-TITLE=Parsons Volunteer F
 ire Department:geo:39.097583,-79.681684
END:VEVENT
BEGIN:VTIMEZONE
TZID:America/New_York
X-LIC-LOCATION:America/New_York
BEGIN:STANDARD
DTSTART:20231105T010000
TZOFFSETFROM:-0400
TZOFFSETTO:-0500
TZNAME:EST
END:STANDARD
END:VTIMEZONE
END:VCALENDAR