BEGIN:VCALENDAR
VERSION:2.0
PRODID:-//wp-events-plugin.com//7.2.3.1//EN
TZID:America/New_York
X-WR-TIMEZONE:America/New_York
BEGIN:VEVENT
UID:1988@wvpst.org
DTSTART;TZID=America/New_York:20220205T080000
DTEND;TZID=America/New_York:20220205T180000
DTSTAMP:20220128T205817Z
URL:https://wvpst.org/events/firefighter-2-26/
SUMMARY:Firefighter 2
DESCRIPTION:WVPST is pleased to announce a Firefighter 2 class. \n\nWhere: 
 Flatrock VFD (14480 Ripley Rd.\, Leon\, WV 25123)\n\nWhen: February 5\, 6\
 , 18\, &amp\; 19\n\nTime: 0800-1800\n\nInstructor: Zach Adkins\n\nTuition:
  $45/person\n\nTextbook: $75/book (if needed)\n\nThe 40-hour Fire Fighter 
 2 class meets NFPA 1001\, 2019 edition. The text is “Fundamentals of Fi
 re Fighter Skills and Hazardous Materials Response 4th Edition” by Jones
  and Bartlett - WV custom cover W/Advantage Access. Successful completion
  of this class provides the minimum requirements by the WV State Fire Comm
 ission to respond to vehicle extrication calls.\n\nPrerequisite: Firefight
 er 1 (MUST PROVIDE TO WVPST BEFORE CLASS BEGINS!). IFSAC Testing is avail
 able.\n\nPRE-REGISTRATION REQUIRED!! \n\nTo Register: Follow the guideline
 s in the attached document using the course number in this posting. WVPST 
 is adopting a new registration platform that we believe will be more user-
 friendly. Should you have any issues\, please contact Eva Godbey at eva.go
 dbey@k12.wv.us.\n\nLink: www.pstachio.wvnet.edu (If link doesn't work\, us
 e Google Chrome and search PSTachio.wvnet.edu)\n\nCourse ID: 22-345-05 WVP
 ST Parkersburg\n\nIf you have any questions or issues registering\, please
  contact Eva Godbey at eva.godbey@k12.wv.us\n\nPST Class Registrations\n\
 nGo to:  https://pstachio.wvnet.edu/\n\nIf you don’t have an account\,
  click Register.\n\n 	Under location\, select the correct region of the ho
 sted class.\n 	Parkersburg: Calhoun\, Gilmer\, Jackson\, Mason\, Putnam\, 
 Roane\, Wirt\, Wood\n 	Charleston: Boone\, Cabell\, Clay\, Kanawha\, Linco
 ln\, Logan\, Mingo\, Wayne\n 	Complete all of the information.\n\n 	WVOEMS
  # is not applicable\, if you do not have a WVOEMS account\n\n\n 	Verify a
 ccount through the email you receive from PSTachio.\n\n 	Once you have ver
 ified your account\, the respective PST Regional Coordinator and Specialis
 t will receive a notification to approve your account.\n\n\n 	After your a
 ccount has been approved\, you need to log in using the email address and 
 password you set up.\n 	Click Registration\n 	Enter the course number prov
 ided to you for the respective course.\n\n 	Parkersburg 21-XXX-05\n 	Charl
 eston 21-XXX-03\n\n\n 	Press Enter after the course number is entered\n 	C
 lick Register\n\n 	You should be rerouted to your Transcript.\n\n\n\n**If 
 you have taken PST courses but have never created an account or try to reg
 ister and are prompted with an account already exists for that username\, 
 contact your local PST for a password reset.\n\n**Using the email address 
 and password will allow you to review your transcript for all PST classes 
 you have taken since July 2016\, provided you have used the same email add
 ress for each region.  If you have taken a class and received a certifica
 te\, but it doesn’t show up on your transcript\, contact the PST office 
 for the area you took the course.\n\n**If you are unable to log in\, pleas
 e contact Eva Godbey for a password reset.  Eva.godbey@k12.wv.us or (30
 4) 766-0011 ext. 22.
CATEGORIES:WVPST Parkersburg
LOCATION:Flatrock VFD\, 14480 Ripley Rd.\, Leon\, WV\, 25123\, United State
 s
GEO:38.838016;-81.921577
X-APPLE-STRUCTURED-LOCATION;VALUE=URI;X-ADDRESS=14480 Ripley Rd.\, Leon\, W
 V\, 25123\, United States;X-APPLE-RADIUS=100;X-TITLE=Flatrock VFD:geo:38.8
 38016,-81.921577
END:VEVENT
BEGIN:VTIMEZONE
TZID:America/New_York
X-LIC-LOCATION:America/New_York
BEGIN:STANDARD
DTSTART:20211107T010000
TZOFFSETFROM:-0400
TZOFFSETTO:-0500
TZNAME:EST
END:STANDARD
END:VTIMEZONE
END:VCALENDAR