BEGIN:VCALENDAR
VERSION:2.0
PRODID:-//wp-events-plugin.com//7.2.3.1//EN
TZID:America/New_York
X-WR-TIMEZONE:America/New_York
BEGIN:VEVENT
UID:1002@wvpst.org
DTSTART;TZID=America/New_York:20190910T180000
DTEND;TZID=America/New_York:20190910T220000
DTSTAMP:20190719T144616Z
URL:https://wvpst.org/events/firefighter-2-15/
SUMMARY:Firefighter 2
DESCRIPTION:Firefighter 2\n\nA 40-hour Firefighter 2 class will be held at 
 New Creek VFC starting Tuesday\, September 10\, 2019 at 6:00 pm.  The cla
 ss is scheduled to meet on Tuesday and Thursday evenings but days may chan
 ge at the convenience of the instructor and class participants.  Dusty Am
 tower is the instructor.  Firefighter 1 is a prerequisite.  Participants
  must provide verification of prerequisite training.  Course fee is $45.
   Book is $75.\n\nClick here for a Course Flyer
CATEGORIES:WVPST Martinsburg
LOCATION:New Creek VFD\, WV-972\, New Creek\, WV\, 26743\, United States
GEO:39.3708706;-79.03131970000004
X-APPLE-STRUCTURED-LOCATION;VALUE=URI;X-ADDRESS=WV-972\, New Creek\, WV\, 2
 6743\, United States;X-APPLE-RADIUS=100;X-TITLE=New Creek VFD:geo:39.37087
 06,-79.03131970000004
END:VEVENT
BEGIN:VTIMEZONE
TZID:America/New_York
X-LIC-LOCATION:America/New_York
BEGIN:DAYLIGHT
DTSTART:20190310T030000
TZOFFSETFROM:-0500
TZOFFSETTO:-0400
TZNAME:EDT
END:DAYLIGHT
END:VTIMEZONE
END:VCALENDAR