BEGIN:VCALENDAR
VERSION:2.0
PRODID:-//wp-events-plugin.com//7.2.3.1//EN
TZID:America/New_York
X-WR-TIMEZONE:America/New_York
BEGIN:VEVENT
UID:968@wvpst.org
DTSTART;TZID=America/New_York:20190710T190000
DTEND;TZID=America/New_York:20190710T220000
DTSTAMP:20190627T140831Z
URL:https://wvpst.org/events/firefighter-2-14/
SUMMARY:Firefighter 2
DESCRIPTION:Firefighter 2\n\nA 40-hour Firefighter 2 class will be held at 
 Friendship Fire Co in Harpers Ferry\, WV starting Wednesday July 10\, 2019
  at 7:00 pm.  The class will meet Wednesdays and Saturdays.  Donald Long
 erbeam is the instructor.  Firefighter 1 is a prerequisite.  Participant
 s must provide verification of prerequisite to receive certification.  Co
 urse Fee is $45.  Book is $75.\n\nClick here for a Course Flyer
CATEGORIES:WVPST Martinsburg
LOCATION:Friendship Fire Co\, 1050 Washington St\, Harpers Ferry\, United S
 tates
GEO:39.3266318;-77.7453504
X-APPLE-STRUCTURED-LOCATION;VALUE=URI;X-ADDRESS=1050 Washington St\, Harper
 s Ferry\, United States;X-APPLE-RADIUS=100;X-TITLE=Friendship Fire Co:geo:
 39.3266318,-77.7453504
END:VEVENT
BEGIN:VTIMEZONE
TZID:America/New_York
X-LIC-LOCATION:America/New_York
BEGIN:DAYLIGHT
DTSTART:20190310T030000
TZOFFSETFROM:-0500
TZOFFSETTO:-0400
TZNAME:EDT
END:DAYLIGHT
END:VTIMEZONE
END:VCALENDAR