BEGIN:VCALENDAR
VERSION:2.0
PRODID:-//wp-events-plugin.com//7.2.3.1//EN
TZID:America/New_York
X-WR-TIMEZONE:America/New_York
BEGIN:VEVENT
UID:1121@wvpst.org
DTSTART;TZID=America/New_York:20191014T180000
DTEND;TZID=America/New_York:20191014T220000
DTSTAMP:20191007T193036Z
URL:https://wvpst.org/events/firefighter-1-module-4/
SUMMARY:Firefighter 1 Module 4
DESCRIPTION:West Virginia Public Service Training will be offering a WV Fir
 e Fighter 1\, Module 4 course.\n\nLocation:  Clendenin Volunteer Fire Dep
 artment\n\nDates:  Mondays and Thursdays\, October 14\, 17\, 21\, 24 and 
 28\n\nTime:  6:00 pm - 10:00 pm. There will also be a Saturday scheduled 
 during that time frame for the training center in Institute.\n\nThis Modul
 e is approximately 32 hours in length and covers subjects such as:  inter
 ior fire attack\, forcible entry\, search and rescue\, salvage &amp\; over
 haul\, ventilation\, operating as a member of RIT\, climb &amp\; work from
  ladders and secure building utilities.\n\nLead Instructor:  Corey Carr\n
 \nTuition:  $45.00\n\nFacility fee:  $50.00\n\nPrerequisites:  Must be 
 at least 16 years old. Must have taken and passed both FF Modules 1 &amp\;
  2.\n\nTo register\, please call Tammy Norman at (304) 766-0011 ext. 22
CATEGORIES:WVPST Charleston
LOCATION:Clendenin VFD\, 107 Maywood Ave. East\, Clendenin\, WV\, 25045\, U
 nited States
GEO:38.489237;-81.346148
X-APPLE-STRUCTURED-LOCATION;VALUE=URI;X-ADDRESS=107 Maywood Ave. East\, Cle
 ndenin\, WV\, 25045\, United States;X-APPLE-RADIUS=100;X-TITLE=Clendenin V
 FD:geo:38.489237,-81.346148
END:VEVENT
BEGIN:VTIMEZONE
TZID:America/New_York
X-LIC-LOCATION:America/New_York
BEGIN:DAYLIGHT
DTSTART:20190310T030000
TZOFFSETFROM:-0500
TZOFFSETTO:-0400
TZNAME:EDT
END:DAYLIGHT
END:VTIMEZONE
END:VCALENDAR