BEGIN:VCALENDAR
VERSION:2.0
PRODID:-//wp-events-plugin.com//7.2.3.1//EN
TZID:America/New_York
X-WR-TIMEZONE:America/New_York
BEGIN:VEVENT
UID:2988@wvpst.org
DTSTART;TZID=America/New_York:20260401T180000
DTEND;TZID=America/New_York:20260401T220000
DTSTAMP:20260327T183643Z
URL:https://wvpst.org/events/firefighter-1-module-2-2/
SUMMARY:Firefighter 1 Module 2
DESCRIPTION:Firefighter 1 Module 2\nLOCATION: Washington Lands VFD\n\n&nbsp
 \;\n\n DATES: 04/01/2026\n\nTIME: 1800-2200\n\n \n\nINSTRUCTOR: Mike Sim
 ms\n\nHOURS: 31.5\n\n\nPrerequisites: FF1 Module 1\n\n\nCLASS COST: $55\nB
 OOK COST: $180 if needed\n\nSUPPLY FEE: N/A\n(All students are required to
  have a book)\n\n&nbsp\;\n\nPre-registration required online at www.wvpst.
 org. Select Wheeling and click on the class in the calendar. Minimum of 10
  students required.\n\n\nContact WVPST at 304-214-8971 
CATEGORIES:WVPST Wheeling
LOCATION:Washington Lands VFD\, 831 Frontage Drive\, Moundsville \, WV \, 2
 6041\, United States
GEO:39.895211;-80.790003
X-APPLE-STRUCTURED-LOCATION;VALUE=URI;X-ADDRESS=831 Frontage Drive\, Mounds
 ville \, WV \, 26041\, United States;X-APPLE-RADIUS=100;X-TITLE=Washington
  Lands VFD:geo:39.895211,-80.790003
END:VEVENT
BEGIN:VTIMEZONE
TZID:America/New_York
X-LIC-LOCATION:America/New_York
BEGIN:DAYLIGHT
DTSTART:20260308T030000
TZOFFSETFROM:-0500
TZOFFSETTO:-0400
TZNAME:EDT
END:DAYLIGHT
END:VTIMEZONE
END:VCALENDAR