BEGIN:VCALENDAR
VERSION:2.0
PRODID:-//wp-events-plugin.com//7.2.3.1//EN
TZID:America/New_York
X-WR-TIMEZONE:America/New_York
BEGIN:VEVENT
UID:2119@wvpst.org
DTSTART;TZID=America/New_York:20220707T180000
DTEND;TZID=America/New_York:20220707T220000
DTSTAMP:20220630T152716Z
URL:https://wvpst.org/events/firefighter-1-module-1-3/
SUMMARY:Firefighter 1 Module 1
DESCRIPTION:West Virginia Public Service Training will be offering a WV Fir
 e Fighter 1\, Module 1 course at Danville VFD.  \n\nThis 36.5-hour modul
 e course covers subjects such as: History of the Fire Service\, Fire Figh
 ter Safety\, PPE/SCBA\, Fire Service Communications\, ICS\, First Aid/CPR 
 &amp\; HazMat Awareness.\n\nDates: July 7th\, 8th\, 11th\, 12th\, 15th\, 1
 6th\, 19th\, and 20th\n\nTimes: 1800-2200 on July 7th\, 8th\, 11th\, 12th\
 , 15th\, 19th and 20th\; 0800-1600 on July 16th\n\nInstructor: Brock Robe
 rts\n\nLocation: Danville VFD (220 Park Ave.\, Danville\, WV 25053)\n\nTui
 tion: $45/module per person\n\nBook: $75\n\nPREREQUISTITES: REGISTRANTS M
 UST BE AT LEAST 16 YEARS OLD\n\nTo Register: Follow the guidelines in the 
 attached document using the course number in this posting. WVPST is adopti
 ng a new registration platform that we believe will be more user-friendly.
  Should you have any issues\, please contact Eva Godbey at eva.godbey@k12.
 wv.us.  \n\nLink: www.pstachio.wvnet.edu (If link doesn't work\, use Goog
 le Chrome and search PSTachio.wvnet.edu)\n\nCourse ID: 23-001-03 WVPST Cha
 rleston\n\nIf you have any questions or issues registering\, please contac
 t Eva Godbey at eva.godbey@k12.wv.us\n\nPST Class Registrations\n\nGo to:
   https://pstachio.wvnet.edu/\n\nIf you don’t have an account\, click 
 Register.\n\n 	Under location\, select the correct region of the hosted cl
 ass.\n 	Parkersburg: Calhoun\, Gilmer\, Jackson\, Mason\, Putnam\, Roane\,
  Wirt\, Wood\n 	Charleston: Boone\, Cabell\, Clay\, Kanawha\, Lincoln\, Lo
 gan\, Mingo\, Wayne\n 	Complete all of the information.\n\n 	WVOEMS # is n
 ot applicable\, if you do not have a WVOEMS account\n\n\n 	Verify account 
 through the email you receive from PSTachio.\n\n 	Once you have verified y
 our account\, the respective PST Regional Coordinator and Specialist will 
 receive a notification to approve your account.\n\n\n 	After your account 
 has been approved\, you need to log in using the email address and passwor
 d you set up.\n 	Click Registration\n 	Enter the course number provided to
  you for the respective course.\n\n 	Parkersburg 21-XXX-05\n 	Charleston 2
 1-XXX-03\n\n\n 	Press Enter after the course number is entered\n 	Click Re
 gister\n\n 	You should be rerouted to your Transcript.\n\n\n\n**If you hav
 e taken PST courses but have never created an account or try to register a
 nd are prompted with an account already exists for that username\, contact
  your local PST for a password reset.\n\n**Using the email address and pas
 sword will allow you to review your transcript for all PST classes you hav
 e taken since July 2016\, provided you have used the same email address fo
 r each region.  If you have taken a class and received a certificate\, bu
 t it doesn’t show up on your transcript\, contact the PST office for the
  area you took the course.\n\n**If you are unable to log in\, please conta
 ct Eva Godbey for a password reset.  Eva.godbey@k12.wv.us or (304) 766-
 0011 ext. 22.
CATEGORIES:WVPST Charleston
LOCATION:Danville VFD\, 220 Park Ave.\, Danville\, WV\, 25053\, United Stat
 es
GEO:38.078651;-81.835352
X-APPLE-STRUCTURED-LOCATION;VALUE=URI;X-ADDRESS=220 Park Ave.\, Danville\, 
 WV\, 25053\, United States;X-APPLE-RADIUS=100;X-TITLE=Danville VFD:geo:38.
 078651,-81.835352
END:VEVENT
BEGIN:VTIMEZONE
TZID:America/New_York
X-LIC-LOCATION:America/New_York
BEGIN:DAYLIGHT
DTSTART:20220313T030000
TZOFFSETFROM:-0500
TZOFFSETTO:-0400
TZNAME:EDT
END:DAYLIGHT
END:VTIMEZONE
END:VCALENDAR