BEGIN:VCALENDAR
VERSION:2.0
PRODID:-//wp-events-plugin.com//7.2.3.1//EN
TZID:America/New_York
X-WR-TIMEZONE:America/New_York
BEGIN:VEVENT
UID:2562@wvpst.org
DTSTART;TZID=America/New_York:20230829T180000
DTEND;TZID=America/New_York:20230829T220000
DTSTAMP:20230828T150003Z
URL:https://wvpst.org/events/firefighter-1-43/
SUMMARY:Firefighter 1
DESCRIPTION:This 120-hour Fire Fighter 1 course will be conducted at Blue R
 idge Mountain Volunteer Fire Company. Class will begin on Tuesday August 2
 9th  at 6:00pm.  Classes will meet Tuesdays and Thursdays from 6pm until
  10pm.  Additional weekend dates will be discussed during the first class
  session.\n\nTUITION/COSTS: Student cost $55 plus $50 supply fee. The “F
 undamentals of Firefighter Skills” book will be available from the instr
 uctor at a cost of $75 each.\n\n&nbsp\;\n\n&nbsp\;\n\nBlue Ridge Flyer
CATEGORIES:WVPST Martinsburg
LOCATION:Blue Ridge Mountain VFC\, 181 Keys Gap Road\, Harpers Ferry\, WV\,
  25425\, United States
GEO:39.325379;-77.738882
X-APPLE-STRUCTURED-LOCATION;VALUE=URI;X-ADDRESS=181 Keys Gap Road\, Harpers
  Ferry\, WV\, 25425\, United States;X-APPLE-RADIUS=100;X-TITLE=Blue Ridge 
 Mountain VFC:geo:39.325379,-77.738882
END:VEVENT
BEGIN:VTIMEZONE
TZID:America/New_York
X-LIC-LOCATION:America/New_York
BEGIN:DAYLIGHT
DTSTART:20230312T030000
TZOFFSETFROM:-0500
TZOFFSETTO:-0400
TZNAME:EDT
END:DAYLIGHT
END:VTIMEZONE
END:VCALENDAR