BEGIN:VCALENDAR
VERSION:2.0
PRODID:-//wp-events-plugin.com//7.2.3.1//EN
TZID:America/New_York
X-WR-TIMEZONE:America/New_York
BEGIN:VEVENT
UID:1279@wvpst.org
DTSTART;TZID=America/New_York:20200118T080000
DTEND;TZID=America/New_York:20200118T160000
DTSTAMP:20200114T152230Z
URL:https://wvpst.org/events/firefighter-1-27/
SUMMARY:Firefighter 1
DESCRIPTION:Fire Fighter 1\n\nThe 120-hour Fire Fighter 1 class meets NFPA 
 1001\, 2013 edition.  The class includes NFPA 1001 2013 FF 1 Standard\, H
 azMat Awareness/Operations\, and First Aid/CPR.  The text is Jones &amp\;
  Bartlett “Fundamentals of Fire Fighter Skills” 3rd Edition - WV custo
 m cover W/Advantage Access.  Successful completion of this class provides
  the minimum requirements by the WV State Fire Commission to respond to fi
 re calls.  Firefighter 1 is available in an online blended learning forma
 t.  A combined Firefighter 1 and Firefighter 2 class is available.  IFSA
 C Testing is available.  This 120-hour course meets the NFPA 1001\, 2013 
 edition.\n\nLocation:  Spruce River Volunteer Fire Department\n\nDays:  
 Saturdays &amp\; Sundays January 18\, 2020 through March 15\, 2020\n\nTime
 s:  8:00 AM -  4:00 PM\n\nInstructor:  Jason Price\n\nCourse Fee:  $45
 .00\n\nTextbook:  $75.00\n\nFacility Fee:  $50.00\n\nYOU MUST BE AT LEAS
 T 16 YEARS OF AGE AND BE A MEMBER OF A FIRE DEPARTMENT TO BE ELIGIBLE TO T
 AKE THIS COURSE!!!\n\nTo register\, please contact Tammy Norman at tnorman
 @k12.wv.us or (304) 766-0011 ext. 21.
CATEGORIES:WVPST Charleston
LOCATION:Spruce River VFD\, 620 Hewett Rd.\, Jeffrey\, WV\, 25114\, United 
 States
GEO:37.971471;-81.827155
X-APPLE-STRUCTURED-LOCATION;VALUE=URI;X-ADDRESS=620 Hewett Rd.\, Jeffrey\, 
 WV\, 25114\, United States;X-APPLE-RADIUS=100;X-TITLE=Spruce River VFD:geo
 :37.971471,-81.827155
END:VEVENT
BEGIN:VTIMEZONE
TZID:America/New_York
X-LIC-LOCATION:America/New_York
BEGIN:STANDARD
DTSTART:20191103T010000
TZOFFSETFROM:-0400
TZOFFSETTO:-0500
TZNAME:EST
END:STANDARD
END:VTIMEZONE
END:VCALENDAR