BEGIN:VCALENDAR
VERSION:2.0
PRODID:-//wp-events-plugin.com//7.2.3.1//EN
TZID:America/New_York
X-WR-TIMEZONE:America/New_York
BEGIN:VEVENT
UID:1034@wvpst.org
DTSTART;TZID=America/New_York:20190916T180000
DTEND;TZID=America/New_York:20190916T210000
DTSTAMP:20190820T165438Z
URL:https://wvpst.org/events/firefighter-1-19/
SUMMARY:Firefighter 1
DESCRIPTION:Firefighter 1\n\nA 120-hour Firefighter 1 class will be held at
  South Berkeley VFC starting Monday\, September 16\, 2019 at 6:00 pm.  Th
 e class schedule will be determined at the first class.  The class meets 
 NFPA 2013 FF 1 Standard and includes HazMat Awareness and Operations\, and
  First Aid &amp\; CPR.  David Hess is the instructor.  Course Fee is $45
 .  Book is $75. Supply Fee is $50.\n\nClick here for a Course Flyer\n\nCl
 ick here for detailed information on FF 1 Training
CATEGORIES:WVPST Martinsburg
LOCATION:South Berkeley VFC\, 7556 Winchester Avenue\, Inwood\, WV\, United
  States
GEO:39.3634289;-78.037889
X-APPLE-STRUCTURED-LOCATION;VALUE=URI;X-ADDRESS=7556 Winchester Avenue\, In
 wood\, WV\, United States;X-APPLE-RADIUS=100;X-TITLE=South Berkeley VFC:ge
 o:39.3634289,-78.037889
END:VEVENT
BEGIN:VTIMEZONE
TZID:America/New_York
X-LIC-LOCATION:America/New_York
BEGIN:DAYLIGHT
DTSTART:20190310T030000
TZOFFSETFROM:-0500
TZOFFSETTO:-0400
TZNAME:EDT
END:DAYLIGHT
END:VTIMEZONE
END:VCALENDAR