BEGIN:VCALENDAR
VERSION:2.0
PRODID:-//wp-events-plugin.com//7.2.3.1//EN
TZID:America/New_York
X-WR-TIMEZONE:America/New_York
BEGIN:VEVENT
UID:966@wvpst.org
DTSTART;TZID=America/New_York:20190716T180000
DTEND;TZID=America/New_York:20190716T220000
DTSTAMP:20190626T191759Z
URL:https://wvpst.org/events/firefighter-1-16/
SUMMARY:Firefighter 1
DESCRIPTION:Fire Fighter 1\n\nThe 120-hour Fire Fighter 1 class meets NFPA 
 1001\, 2013 edition.  The class includes NFPA 1001 2013 FF 1 Standard\, H
 azMat Awareness/Operations\, and First Aid/CPR.  The text is Jones &amp\;
  Bartlett “Fundamentals of Fire Fighter Skills” 3rd Edition – WV cus
 tom cover W/Advantage Access.  Successful completion of this class provid
 es the minimum requirements by the WV State Fire Commission to respond to 
 fire calls.\n\nClass Location: Culloden VFD\n\nInstructor:  Jason Burger\
 n\nCost: \n\nCourse Fee: $45.00\n\nTextbook:  $75.00\n\nSupply Fee:  $5
 0.00\n\nDates:\n\nTuesday\, July 16th 6:00 pm - 10:00 pm\n\nThursday\, Jul
 y 18th 6:00 pm - 10:00 pm\n\nSaturday\, July 20th 9:00 am - 5:00 pm\n\nSu
 nday\, July 21st 9:00 am - 5:00 pm\n\nTuesday\, July 23rd 6:00 pm - 10:00
  pm\n\nThursday\, July 25th 6:00 pm - 10:00 pm\n\nSaturday\, July 27th 9:
 00 am - 5:00 pm\n\nSunday\, July 28th 9:00 am - 5:00 pm\n\nTuesday\, July 
 30th 6:00 pm - 10:00 pm\n\nThursday\, August 1st 6:00 pm - 10:00 pm\n\nS
 aturday\, August 3rd 9:00 - 5:00 pm\n\nSunday\, August 4th 9:00 - 5:00 pm\
 n\nTuesday\, August 6th 6:00 pm - 10:00 pm\n\nWednesday\, August 7th 6:00
  - 10:00 pm\n\nTuesday\, August 13th 6:00 pm - 10:00 pm\n\nThursday\, Aug
 ust 15th 6:00 pm - 10:00 pm\n\nSunday\, August 18th 9:00 am - 5:00 pm\n\
 nTuesday\, August 20th 6:00 pm - 10:00 pm\n\nThursday\, August 22nd 6:00
  pm - 10:00 pm\n\nSaturday\, August 24th 9:00 am - 5:00 pm\n\nSunday\, Aug
 ust 25th 9:00 am - 5:00 pm\n\nRegister:  Contact Tammy Norman tnorman@k12
 .wv.us 304-766-0011 ext. 21
CATEGORIES:WVPST Charleston
LOCATION:Culloden VFD\, 2102 3rd St.\, Culloden\, WV\, 25510\, United State
 s
GEO:38.4201392;-82.05825809999999
X-APPLE-STRUCTURED-LOCATION;VALUE=URI;X-ADDRESS=2102 3rd St.\, Culloden\, W
 V\, 25510\, United States;X-APPLE-RADIUS=100;X-TITLE=Culloden VFD:geo:38.4
 201392,-82.05825809999999
END:VEVENT
BEGIN:VTIMEZONE
TZID:America/New_York
X-LIC-LOCATION:America/New_York
BEGIN:DAYLIGHT
DTSTART:20190310T030000
TZOFFSETFROM:-0500
TZOFFSETTO:-0400
TZNAME:EDT
END:DAYLIGHT
END:VTIMEZONE
END:VCALENDAR