BEGIN:VCALENDAR
VERSION:2.0
PRODID:-//wp-events-plugin.com//7.2.3.1//EN
TZID:America/New_York
X-WR-TIMEZONE:America/New_York
BEGIN:VEVENT
UID:2978@wvpst.org
DTSTART;TZID=America/New_York:20260410T180000
DTEND;TZID=America/New_York:20260410T220000
DTSTAMP:20260413T172916Z
URL:https://wvpst.org/events/fire-officer-i-and-ii-4/
SUMMARY:Fire Officer I and II (Date Change)
DESCRIPTION:FIRE OFFICER I and II\n\nWVPST is proud to offer a 48-hour Fire
  officer I and II course at the Slanesville Volunteer Fire and Rescue Comp
 any. This is an upper level program that will be extremely demanding on st
 udents and will require attention to detail and critical thinking skills. 
 Fire officers often find themselves leaving the daily ranks of firefighter
  to being placed in charge overnight with minimal training and preparation
 . This course will expose you to the demands of the position as well as be
 tter prepare you for success in leadership.\n\nPrerequisite: Fire Fighter 
 II. COPIES OF CERTIFICATE MUST BE PROVIDED AT THE FIRST CLASS.\n\nINSTRUCT
 OR: Adam Mauck\n\nLOCATION: Slanesville VFC 6951 Bloomery Pike Slanesville
  WV 25444\n\nSTART DATE:\nMay 8\, 2026\nThe rest of class schedule will be
  discussed on the first night.\n\nTIME: 6pm\n\nTUITION: $60 per student.\n
 \nTEXTBOOK: $80.00 - All students are required to have a textbook with acc
 ess code for this course. J &amp\; B\, Fire Officer: Principles &amp\; Pra
 ctice 4th Edition\n\nALL participants must have a laptop computer for clas
 s.\n\nFO-I-and-II-Slanesville -Flyer-2025-Statewide\n\n&nbsp\;
CATEGORIES:WVPST Martinsburg
LOCATION:Slanesville VFC\, 6951 Bloomery Pike\, Slanesville\, WV\, 25444\, 
 United States
GEO:39.374111;-78.524428
X-APPLE-STRUCTURED-LOCATION;VALUE=URI;X-ADDRESS=6951 Bloomery Pike\, Slanes
 ville\, WV\, 25444\, United States;X-APPLE-RADIUS=100;X-TITLE=Slanesville 
 VFC:geo:39.374111,-78.524428
END:VEVENT
BEGIN:VTIMEZONE
TZID:America/New_York
X-LIC-LOCATION:America/New_York
BEGIN:DAYLIGHT
DTSTART:20260308T030000
TZOFFSETFROM:-0500
TZOFFSETTO:-0400
TZNAME:EDT
END:DAYLIGHT
END:VTIMEZONE
END:VCALENDAR