BEGIN:VCALENDAR
VERSION:2.0
PRODID:-//wp-events-plugin.com//7.2.3.1//EN
TZID:America/New_York
X-WR-TIMEZONE:America/New_York
BEGIN:VEVENT
UID:1278@wvpst.org
DTSTART;TZID=America/New_York:20200401T180000
DTEND;TZID=America/New_York:20200401T220000
DTSTAMP:20200319T003925Z
URL:https://wvpst.org/events/fire-officer-12-5/
SUMMARY:Fire Officer 1&2 - Postponed
DESCRIPTION:FIRE OFFICER 1 &amp\; 2\nThis 48-hour course will be conducted 
 at Winfield District VFD\, Fairmont\, WV (Marion County). Class dates are 
 April 1\, 7\, 9\, 15\, 16\, 22\, 25\, and 28.  Class will meet from 6pm t
 o 10pm on weekdays and 9am to 4pm on weekends.  Jimmy Glasscock is the in
 structor. Preregister by entering your information where prompted below.\n
 \nPrerequisite: Fire Fighter 2. COPIES OF CERTIFICATE MUST BE PROVIDED.\n\
 nTUITION: $45 per student. J &amp\; B\, Fire Officer: Principles &amp\; Pr
 actice textbooks and workbooks are required and will be available from the
  instructor: packaged together is $120.  Please make check or money order
  payable to Mountain State Educational Services Cooperative or MSESC.
CATEGORIES:WVPST Clarksburg
LOCATION:\, \, 
X-APPLE-STRUCTURED-LOCATION;VALUE=URI;X-ADDRESS=\, ;X-APPLE-RADIUS=100;X-TI
 TLE=:geo:0,0
END:VEVENT
BEGIN:VTIMEZONE
TZID:America/New_York
X-LIC-LOCATION:America/New_York
BEGIN:DAYLIGHT
DTSTART:20200308T030000
TZOFFSETFROM:-0500
TZOFFSETTO:-0400
TZNAME:EDT
END:DAYLIGHT
END:VTIMEZONE
END:VCALENDAR