BEGIN:VCALENDAR
VERSION:2.0
PRODID:-//wp-events-plugin.com//7.2.3.1//EN
TZID:America/New_York
X-WR-TIMEZONE:America/New_York
BEGIN:VEVENT
UID:1276@wvpst.org
DTSTART;TZID=America/New_York:20200222T090000
DTEND;TZID=America/New_York:20200222T170000
DTSTAMP:20200113T023843Z
URL:https://wvpst.org/events/fire-officer-12-4/
SUMMARY:Fire Officer 1&2
DESCRIPTION:FIRE OFFICER 1 &amp\; 2\nThis 48-hour course will be conducted 
 at Parsons VFD\, Parsons\, WV (Tucker County). Class dates are February 22
 \, 23\, 29 and March 1\, 7\, 8.  Class will meet from 9am to 5pm each dat
 e.  Tom Klus is the instructor. Preregister by entering your information 
 where prompted below.\n\nPrerequisite: Fire Fighter 2. COPIES OF CERTIFICA
 TE MUST BE PROVIDED.\n\nTUITION: $45 per student. J &amp\; B\, Fire Office
 r: Principles &amp\; Practice textbooks and workbooks are required and wil
 l be available from the instructor: packaged together is $120.  Please ma
 ke check or money order payable to Mountain State Educational Services Coo
 perative or MSESC.
CATEGORIES:WVPST Clarksburg
LOCATION:Parsons Volunteer Fire Department\, 216 Main Street\, Parsons\, WV
 \, 26287\, United States
GEO:39.097583;-79.681684
X-APPLE-STRUCTURED-LOCATION;VALUE=URI;X-ADDRESS=216 Main Street\, Parsons\,
  WV\, 26287\, United States;X-APPLE-RADIUS=100;X-TITLE=Parsons Volunteer F
 ire Department:geo:39.097583,-79.681684
END:VEVENT
BEGIN:VTIMEZONE
TZID:America/New_York
X-LIC-LOCATION:America/New_York
BEGIN:STANDARD
DTSTART:20191103T010000
TZOFFSETFROM:-0400
TZOFFSETTO:-0500
TZNAME:EST
END:STANDARD
END:VTIMEZONE
END:VCALENDAR