BEGIN:VCALENDAR
VERSION:2.0
PRODID:-//wp-events-plugin.com//7.2.3.1//EN
TZID:America/New_York
X-WR-TIMEZONE:America/New_York
BEGIN:VEVENT
UID:455@wvpst.org
DTSTART;TZID=America/New_York:20180818T090000
DTEND;TZID=America/New_York:20180818T170000
DTSTAMP:20180314T181353Z
URL:https://wvpst.org/events/fire-officer-1-and-2/
SUMMARY:Fire Officer 1 and 2
DESCRIPTION:FIRE OFFICER 1 &amp\; 2\nThis 48-hour course will be conducted 
 at the Clinton District VFD\, Morgantown\, WV (Monongalia County).  The c
 lass will meet on Saturdays &amp\; Sundays from 9a-5p. Class dates are Aug
 ust 18\, 19\, 25\, 26\, Sept. 1 &amp\; 2. Bernie Moyer is the instructor.
   Register during first class session.\n\nPrerequisite: Fire Fighter 2. C
 OPIES MUST BE PROVIDED.\n\nTUITION: $45 per student.  J &amp\; B\, Fire O
 fficer: Principles &amp\; Practice textbooks and workbooks are required an
 d will be available from the instructor: packaged together is $120.
CATEGORIES:WVPST Clarksburg
LOCATION:\, \, 
X-APPLE-STRUCTURED-LOCATION;VALUE=URI;X-ADDRESS=\, ;X-APPLE-RADIUS=100;X-TI
 TLE=:geo:0,0
END:VEVENT
BEGIN:VTIMEZONE
TZID:America/New_York
X-LIC-LOCATION:America/New_York
BEGIN:DAYLIGHT
DTSTART:20180311T030000
TZOFFSETFROM:-0500
TZOFFSETTO:-0400
TZNAME:EDT
END:DAYLIGHT
END:VTIMEZONE
END:VCALENDAR