BEGIN:VCALENDAR
VERSION:2.0
PRODID:-//wp-events-plugin.com//7.2.3.1//EN
TZID:America/New_York
X-WR-TIMEZONE:America/New_York
BEGIN:VEVENT
UID:2990@wvpst.org
DTSTART;TZID=America/New_York:20260413T180000
DTEND;TZID=America/New_York:20260413T220000
DTSTAMP:20260327T194913Z
URL:https://wvpst.org/events/fire-officer-1-2-3/
SUMMARY:Fire Officer 1 & 2
DESCRIPTION:Fire Officer 1 &amp\; 2\nLOCATION: Online Doddridge County\n\n
  DATES: 4/13/2026\n\nTIME: Online\n\nINSTRUCTOR: George Eidel\n\nHOURS: 4
 8Prerequisites: Fire Fighter 2\n\nCLASS COST: $250.00\n\nBOOK COST: Includ
 ed\n\nSUPPLY FEE: N/A\n(All students are required to have a book)\n\n&nbsp
 \;\n\nPre-registration required online at www.wvpst.org. Select Wheeling a
 nd click on the class in the calendar. Minimum of 10 students required.\n\
 n\nContact WVPST at 304-214-8824
CATEGORIES:WVPST Wheeling
LOCATION:Doddridge County EMA\, 101 Church Street\, West Union\, WV \, 2645
 6\, 
GEO:39.293415;-80.775282
X-APPLE-STRUCTURED-LOCATION;VALUE=URI;X-ADDRESS=101 Church Street\, West Un
 ion\, WV \, 26456\, ;X-APPLE-RADIUS=100;X-TITLE=Doddridge County EMA:geo:3
 9.293415,-80.775282
END:VEVENT
BEGIN:VTIMEZONE
TZID:America/New_York
X-LIC-LOCATION:America/New_York
BEGIN:DAYLIGHT
DTSTART:20260308T030000
TZOFFSETFROM:-0500
TZOFFSETTO:-0400
TZNAME:EDT
END:DAYLIGHT
END:VTIMEZONE
END:VCALENDAR