BEGIN:VCALENDAR
VERSION:2.0
PRODID:-//wp-events-plugin.com//7.2.3.1//EN
TZID:America/New_York
X-WR-TIMEZONE:America/New_York
BEGIN:VEVENT
UID:2137@wvpst.org
DTSTART;TZID=America/New_York:20220722T000000
DTEND;TZID=America/New_York:20220722T000000
DTSTAMP:20220712T200217Z
URL:https://wvpst.org/events/fire-officer-1-2-24/
SUMMARY:Fire Officer 1 & 2
DESCRIPTION:WVPST is pleased to announce a blended Fire Officer 1 &amp\; 2 
 class. \n\nWhere: Ona VFD (2900 Howells Mill Rd.\, Ona\, WV 25545)\n\nWhen
 : July 22\, 23\, 24\, 29\, 30\, and 31\, 2022\n\nTime: 1800-2200 on July 2
 2 and 29\; 0800-1800 on July 23\, 24\, 30\, and 31\n\nInstructor: Brent Bu
 rger\n\nTuition &amp\; Textbook: $220/person\n\nThe combined Fire Officer 
 1 and Fire Officer 2 class meets NFPA 1021\, 2020 edition. The text is Jo
 nes and Bartlett “Fire Officer Principles and Practice” Fourth Edition
  Premier Access. Participants are required to complete a significant amou
 nt of classwork outside of scheduled classes. Participants must attend at
  least 90% of the classroom instruction\, complete the workbook\, complete
  all homework assignments\, take chapter quizzes\, take the final tests\, 
 and score overall 70% or higher. Chapter quizzes will be 10% of the grade
 . The Portfolios (homework assignments) will be 20 % of the grade. The W
 orkbook will be 20% of the grade. The Final Test will be 50% of the grade
 .\n\nPrerequisites: Fire Fighter I &amp\; II (Must send copies of certif
 icates prior to the first day of class to Eva Godbey at eva.godbey@k12.wv
 .us.)\n\nJunior fire fighters are not permitted to attend this course.\n\n
 ***Students MUST attend the first night of class to receive books and fill
  out administrative paperwork. You are encouraged to bring a laptop with 
 you when you come to class. You will be able to test at your local PST off
 ice.***\n\nPRE-REGISTRATION REQUIRED!!\n\nTo Register: Follow the guideli
 nes in the attached document using the course number in this posting. WVP
 ST is adopting a new registration platform that we believe will be more us
 er-friendly. Should you have any issues\, please contact Eva Godbey at ev
 a.godbey@k12.wv.us.\n\nLink: www.pstachio.wvnet.edu (If link doesn’t w
 ork\, use Google Chrome and search PSTachio.wvnet.edu)\n\nCourse ID: 23-02
 4-03 WVPST Charleston\n\nIf you have any questions or issues registering\,
  please contact Eva Godbey at eva.godbey@k12.wv.us\n\nPST Class Registra
 tions\n\nGo to:  https://pstachio.wvnet.edu/\n\nIf you don’t have an a
 ccount\, click Register.\n\n 	Under location\, select the correct region o
 f the hosted class.\n 	Parkersburg: Calhoun\, Gilmer\, Jackson\, Mason\, P
 utnam\, Roane\, Wirt\, Wood\n 	Charleston: Boone\, Cabell\, Clay\, Kanawha
 \, Lincoln\, Logan\, Mingo\, Wayne\n 	Complete all of the information.\n\n
  	WVOEMS # is not applicable\, if you do not have a WVOEMS account\n\n\n 	
 Verify account through the email you receive from PSTachio.\n\n 	Once you 
 have verified your account\, the respective PST Regional Coordinator and S
 pecialist will receive a notification to approve your account.\n\n\n 	Afte
 r your account has been approved\, you need to log in using the email addr
 ess and password you set up.\n 	Click Registration\n 	Enter the course num
 ber provided to you for the respective course.\n\n 	Parkersburg 21-XXX-05\
 n 	Charleston 21-XXX-03\n\n\n 	Press Enter after the course number is ente
 red\n 	Click Register\n\n 	You should be rerouted to your Transcript.\n\n\
 n\n**If you have taken PST courses but have never created an account or tr
 y to register and are prompted with an account already exists for that use
 rname\, contact your local PST for a password reset.\n\n**Using the email 
 address and password will allow you to review your transcript for all PST 
 classes you have taken since July 2016\, provided you have used the same e
 mail address for each region.  If you have taken a class and received a c
 ertificate\, but it doesn’t show up on your transcript\, contact the PST
  office for the area you took the course.\n\n**If you are unable to log in
 \, please contact Eva Godbey for a password reset.  Eva.godbey@k12.wv.us
  or (304) 766-0011 ext. 22.
CATEGORIES:WVPST Charleston
LOCATION:Ona VFD\, 2900 Howell's Mill Road\, Ona\, WV\, 25545\, United Stat
 es
GEO:38.42676;-82.215667
X-APPLE-STRUCTURED-LOCATION;VALUE=URI;X-ADDRESS=2900 Howell's Mill Road\, O
 na\, WV\, 25545\, United States;X-APPLE-RADIUS=100;X-TITLE=Ona VFD:geo:38.
 42676,-82.215667
END:VEVENT
BEGIN:VTIMEZONE
TZID:America/New_York
X-LIC-LOCATION:America/New_York
BEGIN:DAYLIGHT
DTSTART:20220313T030000
TZOFFSETFROM:-0500
TZOFFSETTO:-0400
TZNAME:EDT
END:DAYLIGHT
END:VTIMEZONE
END:VCALENDAR