BEGIN:VCALENDAR
VERSION:2.0
PRODID:-//wp-events-plugin.com//7.2.3.1//EN
TZID:America/New_York
X-WR-TIMEZONE:America/New_York
BEGIN:VEVENT
UID:2560@wvpst.org
DTSTART;TZID=America/New_York:20230910T140000
DTEND;TZID=America/New_York:20230910T170000
DTSTAMP:20230811T134832Z
URL:https://wvpst.org/events/fire-fighter-1-blended-learning-4/
SUMMARY:Fire Fighter 1 Blended Learning
DESCRIPTION:WVPST Clarksburg will be offering an on-line fire fighter 1 cou
 rse with hazardous materials awareness/operations.  The course will use t
 he Jones and Bartlett interactive for the on-line firefighting course.  S
 tudents will enroll through WVPST Clarksburg and they will be given a text
 book and access to the Jones and Bartlett website for Fundamentals of Fire
  Fighter Skills Interactive. The cost of the course is $285 per student wh
 ich includes the textbook and on-line access.\n\nPractical dates for the c
 ourse are November 10\, 11\, 12\, 17\, 18 and 19 2023.  Class times will 
 be Fridays 6-10 pm and weekends 9 am to 5 pm These are mandatory dates and
  you must attend as part of the course.  To enroll\, please complete the 
 enclosed student information form and return it with payment prior to Sept
 ember 1\, 2023.\n\nA mandatory registration/signup day will be done at Uni
 ted Technical Center 251 Marietta Street Clarksburg WV\, 26301 September 1
 0\, 2023 at 2 pm.  This is when students will receive the information for
  the course.  Students will need to bring the device they will be using t
 o complete the course if possible.\n\nBlended FF Course details letter\n\n
 Blended FF Registration Form
CATEGORIES:WVPST Clarksburg
LOCATION:United Technical Center\, 251Marietta Street\, Clarksburg\, WV\, 2
 6301\, United States
GEO:39.310815;-80.358834
X-APPLE-STRUCTURED-LOCATION;VALUE=URI;X-ADDRESS=251Marietta Street\, Clarks
 burg\, WV\, 26301\, United States;X-APPLE-RADIUS=100;X-TITLE=United Techni
 cal Center:geo:39.310815,-80.358834
END:VEVENT
BEGIN:VTIMEZONE
TZID:America/New_York
X-LIC-LOCATION:America/New_York
BEGIN:DAYLIGHT
DTSTART:20230312T030000
TZOFFSETFROM:-0500
TZOFFSETTO:-0400
TZNAME:EDT
END:DAYLIGHT
END:VTIMEZONE
END:VCALENDAR