BEGIN:VCALENDAR
VERSION:2.0
PRODID:-//wp-events-plugin.com//7.2.3.1//EN
TZID:America/New_York
X-WR-TIMEZONE:America/New_York
BEGIN:VEVENT
UID:1422@wvpst.org
DTSTART;TZID=America/New_York:20200721T180000
DTEND;TZID=America/New_York:20200721T220000
DTSTAMP:20200702T193514Z
URL:https://wvpst.org/events/fire-fighter-1-34/
SUMMARY:Fire Fighter 1
DESCRIPTION:Fire Fighter 1\n\nThe 120-hour Fire Fighter 1 class meets NFPA 
 1001\, 2019 edition.  The class includes NFPA 1001 2019 FF 1 Standard\, H
 azMat Awareness/Operations\, and First Aid/CPR.  The text is Jones &amp\;
  Bartlett “Fundamentals of Fire Fighter Skills” 4th Edition – WV cus
 tom cover W/Advantage Access.  Successful completion of this class provid
 es the minimum requirements by the WV State Fire Commission to respond to 
 fire calls.\n\nLocation:Culloden VFD\n\nDates:             July 21\
 , 2020-August 27\, 2020\n\nDays:                   Tuesdays\, Th
 ursdays\, and Saturdays\n\nInstructor (s):  Jason Burger\n\nFee:   Tuit
 ion:  $45\, Textbook:  $75\, and Supply Fee (If applicable): $50\n\nYOU 
 MUST BE AT LEAST 16 YEARS OF AGE AND BE A MEMBER OF A FIRE DEPARTMENT TO B
 E ELIGIBLE TO TAKE THIS COURSE!!!\n\nPLEASE NOTE:  Due to the COVID-19 gu
 idlines that must be followed\, class is limited to 20 people.  If you pl
 an to attend\, please register at your earliest convenience as this class 
 is expected to fill up fast. Further guidance will be provided before the 
 class to those that are pre-registered.\n\nTo Register\, please contact Ta
 mmy Norman at 304-766-0011 ext. 21 or tnorman@k12.wv.us.  \n\nYou may cop
 y the below information into an email and submit to tnorman@k12.wv.us to r
 egister:\n\nName:  ______________________________________________________
 ______\n\n Date of Birth:  _____________________________________________
 _________\n\n Address: __________________________________________________
 ________\n\n City/State:  ____________________________________ Postal Co
 de: __________\n\n Phone Number: ________________ Email Address: ________
 _________________\n\n Affiliation: ______________________________________
 __________________
CATEGORIES:WVPST Charleston
LOCATION:Culloden VFD\, 2102 3rd St.\, Culloden\, WV\, 25510\, United State
 s
GEO:38.4201392;-82.05825809999999
X-APPLE-STRUCTURED-LOCATION;VALUE=URI;X-ADDRESS=2102 3rd St.\, Culloden\, W
 V\, 25510\, United States;X-APPLE-RADIUS=100;X-TITLE=Culloden VFD:geo:38.4
 201392,-82.05825809999999
END:VEVENT
BEGIN:VTIMEZONE
TZID:America/New_York
X-LIC-LOCATION:America/New_York
BEGIN:DAYLIGHT
DTSTART:20200308T030000
TZOFFSETFROM:-0500
TZOFFSETTO:-0400
TZNAME:EDT
END:DAYLIGHT
END:VTIMEZONE
END:VCALENDAR