BEGIN:VCALENDAR
VERSION:2.0
PRODID:-//wp-events-plugin.com//7.2.3.1//EN
TZID:America/New_York
X-WR-TIMEZONE:America/New_York
BEGIN:VEVENT
UID:2667@wvpst.org
DTSTART;TZID=America/New_York:20240126T180000
DTEND;TZID=America/New_York:20240126T220000
DTSTAMP:20231215T162857Z
URL:https://wvpst.org/events/fire-ems-instructor-12-wheeling/
SUMMARY:Fire &EMS Instructor 1&2 Wheeling
DESCRIPTION:Fire &amp\;EMS Instructor 1&amp\;2 Wheeling\nFire and EMS Servi
 ce Instructor 1&amp\;2\n\n&nbsp\;\n\nLocation: WVNCC Wheeling Campus Room 
 316\n\n&nbsp\;\n\nInstructor: David Plume\n\n&nbsp\;\n\nCost: $280.00 incl
 udes tuition and book. Class Dates and times:\n\n 	26.2024 (Fri) 6p-10p\n 
 	27.2024 (Sat) 8a-5p\n 	28.2024 (Sun) 8a-5p\n 	2.2024 (Fri) 6p-10\n 	3.202
 4 (Sat) 8a-5p\n 	4.2024 (Sun) 8a-5p\n\nPre-requisites:\n\nFire Service Ins
 tructor: Fire Fighter 1\, 2\, Haz Mat Operations\, and CPR/FA or higher. 4
  years field    experience. High School Diploma or GED.\n\n&nbsp\;\n\nF
 ire Service Instructor candidates must pass current FF 1\, FF 2\, and HMO 
 tests with a 85% or higher score.\n\n&nbsp\;\n\nEMS Service Instructor: EM
 T or Paramedic Certification\, Current BLS CPR Instructor. 4 years field e
 xperience. High School Diploma or GED.\n\n&nbsp\;\n\nEMS Service Instructo
 rs must pass the WVPST EMT Instructor exam with a 85% or higher score. Cer
 tificates for pre-requisites must be provided to WVPST.\n\nYou must pre-re
 gister before 1/11/2024 to be eligible to take this class  https://forms.
 office.com/r/UwLQrdH2JU
CATEGORIES:WVPST Wheeling
END:VEVENT
BEGIN:VTIMEZONE
TZID:America/New_York
X-LIC-LOCATION:America/New_York
BEGIN:STANDARD
DTSTART:20231105T010000
TZOFFSETFROM:-0400
TZOFFSETTO:-0500
TZNAME:EST
END:STANDARD
END:VTIMEZONE
END:VCALENDAR