BEGIN:VCALENDAR
VERSION:2.0
PRODID:-//wp-events-plugin.com//7.2.3.1//EN
TZID:America/New_York
X-WR-TIMEZONE:America/New_York
BEGIN:VEVENT
UID:2123@wvpst.org
DTSTART;TZID=America/New_York:20221002T090000
DTEND;TZID=America/New_York:20221002T170000
DTSTAMP:20220824T192508Z
URL:https://wvpst.org/events/fire-apparatus-driver-operator-aerial/
SUMMARY:Fire Apparatus Driver Operator-Aerial
DESCRIPTION:FIRE APPARATUS DRIVER OPERATOR-AERIAL\n\nThis 40-hour course is
  being conducted at Petersburg Volunteer Fire Company. Class start date is
  October 2\, 2023.  Class will begin at 9am and will meet every Sunday in
  October.\n\nTim Evans is the instructor.\n\nPREREQUISITES:  Student must
  be certified in Firefighter I\, or Firefighter I Module 1\, and Emergency
  Vehicle Operations\, and must have a valid driver’s license.\n\n*Studen
 t must bring copies of his/her Firefighter I (or FF I Module 1) and EVOC c
 ertificates to first class session.\n\nTUITION:  $45 per student.  The t
 extbook is $90 each.\n\nDriver Operator Aerial Flyer
CATEGORIES:WVPST Martinsburg
LOCATION:Petersburg VFD\, 49 S Main St\, Petersburg\, WV\, United States
GEO:38.9896723;-79.12450819999998
X-APPLE-STRUCTURED-LOCATION;VALUE=URI;X-ADDRESS=49 S Main St\, Petersburg\,
  WV\, United States;X-APPLE-RADIUS=100;X-TITLE=Petersburg VFD:geo:38.98967
 23,-79.12450819999998
END:VEVENT
BEGIN:VTIMEZONE
TZID:America/New_York
X-LIC-LOCATION:America/New_York
BEGIN:DAYLIGHT
DTSTART:20220313T030000
TZOFFSETFROM:-0500
TZOFFSETTO:-0400
TZNAME:EDT
END:DAYLIGHT
END:VTIMEZONE
END:VCALENDAR