BEGIN:VCALENDAR
VERSION:2.0
PRODID:-//wp-events-plugin.com//7.2.3.1//EN
TZID:America/New_York
X-WR-TIMEZONE:America/New_York
BEGIN:VEVENT
UID:1271@wvpst.org
DTSTART;TZID=America/New_York:20200603T190000
DTEND;TZID=America/New_York:20200603T220000
DTSTAMP:20200602T174429Z
URL:https://wvpst.org/events/ff-2-3/
SUMMARY:FF 2
DESCRIPTION:FF 2\n\nThis class will need to be rescheduled because other pr
 eviously scheduled classes have been postponed.  A new start date will be
  posted on this website.\n\nA 40-hour Firefighter 2 class will be held at 
 Friendship Fire Co in Harpers Ferry starting Wednesday June 3\, 2020 at 7:
 00 pm.  The class will meet Wednesdays at 7 and Saturdays at 9.  The cla
 ss may be cancelled if the minimum enrollment number is not met.  Instruc
 tors are Donald Longerbeam\, Ronnie Shutts\, and Scott Biller.  Course Fe
 e $45.  Book $75. Firefighter 1 is a prerequisite.  Participants must pr
 ovide verification of prerequisite training.\n\nClick here for a Course Fl
 yer
CATEGORIES:WVPST Martinsburg
LOCATION:Friendship Fire Co\, 1050 Washington St\, Harpers Ferry\, United S
 tates
GEO:39.3266318;-77.7453504
X-APPLE-STRUCTURED-LOCATION;VALUE=URI;X-ADDRESS=1050 Washington St\, Harper
 s Ferry\, United States;X-APPLE-RADIUS=100;X-TITLE=Friendship Fire Co:geo:
 39.3266318,-77.7453504
END:VEVENT
BEGIN:VTIMEZONE
TZID:America/New_York
X-LIC-LOCATION:America/New_York
BEGIN:DAYLIGHT
DTSTART:20200308T030000
TZOFFSETFROM:-0500
TZOFFSETTO:-0400
TZNAME:EDT
END:DAYLIGHT
END:VTIMEZONE
END:VCALENDAR