BEGIN:VCALENDAR
VERSION:2.0
PRODID:-//wp-events-plugin.com//7.2.3.1//EN
TZID:America/New_York
X-WR-TIMEZONE:America/New_York
BEGIN:VEVENT
UID:1190@wvpst.org
DTSTART;TZID=America/New_York:20191221T080000
DTEND;TZID=America/New_York:20191221T160000
DTSTAMP:20191210T165018Z
URL:https://wvpst.org/events/ff-1-live-fire-training-4/
SUMMARY:FF 1 Live Fire Training
DESCRIPTION:FF 1 Live Fire Training\n\nLive Fire Training for Firefighter 1
  will be held at South Berkeley VFC on Saturday December 21\, 2019 startin
 g at 8:00 am.  This is for a particular class but others can participate 
 by making prior arrangements with David Plume at the WVPST Martinsburg Off
 ice.
CATEGORIES:WVPST Martinsburg
LOCATION:South Berkeley VFC\, 7556 Winchester Avenue\, Inwood\, WV\, United
  States
GEO:39.3634289;-78.037889
X-APPLE-STRUCTURED-LOCATION;VALUE=URI;X-ADDRESS=7556 Winchester Avenue\, In
 wood\, WV\, United States;X-APPLE-RADIUS=100;X-TITLE=South Berkeley VFC:ge
 o:39.3634289,-78.037889
END:VEVENT
BEGIN:VTIMEZONE
TZID:America/New_York
X-LIC-LOCATION:America/New_York
BEGIN:STANDARD
DTSTART:20191103T010000
TZOFFSETFROM:-0400
TZOFFSETTO:-0500
TZNAME:EST
END:STANDARD
END:VTIMEZONE
END:VCALENDAR