BEGIN:VCALENDAR
VERSION:2.0
PRODID:-//wp-events-plugin.com//7.2.3.1//EN
TZID:America/New_York
X-WR-TIMEZONE:America/New_York
BEGIN:VEVENT
UID:1291@wvpst.org
DTSTART;TZID=America/New_York:20200222T080000
DTEND;TZID=America/New_York:20200222T170000
DTSTAMP:20200115T204002Z
URL:https://wvpst.org/events/evoc-19/
SUMMARY:EVOC
DESCRIPTION:EVOC\n\nA 16-hour Emergency Vehicle Operations Course will be h
 eld at Moorefield VFC on Saturday and Sunday\, February 22 &amp\; 23\, 202
 0 starting at 8:00 am.  Roger Brafford is the instructor.  Course Fee $3
 5.  Book Rental $10.  Participants must be 18 years of age and have a va
 lid driver's license.  Class will be cancelled if minimum enrollment numb
 er is not met.  Participants must complete 2 skills at their home departm
 ents following the class.\n\nClick here for a Course Flyer
CATEGORIES:WVPST Martinsburg
LOCATION:Moorefield VFC\, 114 Kuykendall Lane\, Moorefield\, WV\, 26836\, U
 nited States
GEO:39.06544299999999;-78.9712179
X-APPLE-STRUCTURED-LOCATION;VALUE=URI;X-ADDRESS=114 Kuykendall Lane\, Moore
 field\, WV\, 26836\, United States;X-APPLE-RADIUS=100;X-TITLE=Moorefield V
 FC:geo:39.06544299999999,-78.9712179
END:VEVENT
BEGIN:VTIMEZONE
TZID:America/New_York
X-LIC-LOCATION:America/New_York
BEGIN:STANDARD
DTSTART:20191103T010000
TZOFFSETFROM:-0400
TZOFFSETTO:-0500
TZNAME:EST
END:STANDARD
END:VTIMEZONE
END:VCALENDAR