BEGIN:VCALENDAR
VERSION:2.0
PRODID:-//wp-events-plugin.com//7.2.3.1//EN
TZID:America/New_York
X-WR-TIMEZONE:America/New_York
BEGIN:VEVENT
UID:1280@wvpst.org
DTSTART;TZID=America/New_York:20200215T080000
DTEND;TZID=America/New_York:20200215T180000
DTSTAMP:20200114T152731Z
URL:https://wvpst.org/events/evoc-18/
SUMMARY:EVOC
DESCRIPTION:Emergency Vehicle Operations\n\nThe 16-hour Emergency Vehicle O
 perations Course (EVOC) is the basic level training needed to operate any 
 emergency vehicle.  The class includes classroom instruction and practica
 l skills driving course.\n\nSEND REGISTRATIONS TO EVA GODBEY AT EVA.GODBEY
 @K12.WV.US\n\nLocation:     Smithville VFD (16605 Staunton Turnpike\, Sm
 ithville\, WV 26178)\n\nDates:             February 15-16\, 2020\n\n
 Days:           Saturday and Sunday 8a – 6p\n\nInstructor (s): Pau
 l Nutter\n\nFee:   $35 payable to Mountain State ESC\n\n       
   \n\nName:  __________________________________________________________
 _\n\nDate of Birth:  ____________________________________________________
 __\n\nAddress: __________________________________________________________\
 n\nCity/State:  ________________________________________________________\
 n\nPostal Code: _______________________________________________________ \
 n\nPhone Number: ___________________________________________________\n\nEm
 ail Address: ____________________________________________________\n\n Aff
 iliation: _______________________________________________________
CATEGORIES:WVPST Parkersburg
LOCATION:Smithville VFD\, 16605 Staunton Turnpike\, Smithville\, WV\, 26178
 \, United States
GEO:39.074831;-81.083939
X-APPLE-STRUCTURED-LOCATION;VALUE=URI;X-ADDRESS=16605 Staunton Turnpike\, S
 mithville\, WV\, 26178\, United States;X-APPLE-RADIUS=100;X-TITLE=Smithvil
 le VFD:geo:39.074831,-81.083939
END:VEVENT
BEGIN:VTIMEZONE
TZID:America/New_York
X-LIC-LOCATION:America/New_York
BEGIN:STANDARD
DTSTART:20191103T010000
TZOFFSETFROM:-0400
TZOFFSETTO:-0500
TZNAME:EST
END:STANDARD
END:VTIMEZONE
END:VCALENDAR