BEGIN:VCALENDAR
VERSION:2.0
PRODID:-//wp-events-plugin.com//7.2.3.1//EN
TZID:America/New_York
X-WR-TIMEZONE:America/New_York
BEGIN:VEVENT
UID:1116@wvpst.org
DTSTART;TZID=America/New_York:20191026T080000
DTEND;TZID=America/New_York:20191026T170000
DTSTAMP:20191007T184859Z
URL:https://wvpst.org/events/evoc-15/
SUMMARY:EVOC
DESCRIPTION:EVOC\n\nA 16-hour Emergency Vehicle Operations Course will be h
 eld at Panthera Training Center on Saturday and Sunday October 26 &amp\; 2
 7\, 2019 starting at 8:00 am each day.  Roger Brafford is the instructor.
   Participants must be 18 years of age and have a valid driver's license.
   Course fee is $35.  Book rental fee is $10\, or books can be purchased
  for $78.  Class will be cancelled if minimum enrollment number is not me
 t.\n\nClick here for a Course Flyer
CATEGORIES:WVPST Martinsburg
LOCATION:Panthera Training Center\, 2506 Fish Pond Rd\, Old Fields\, WV\, 2
 6845\, United States
GEO:39.1385415;-78.9985757
X-APPLE-STRUCTURED-LOCATION;VALUE=URI;X-ADDRESS=2506 Fish Pond Rd\, Old Fie
 lds\, WV\, 26845\, United States;X-APPLE-RADIUS=100;X-TITLE=Panthera Train
 ing Center:geo:39.1385415,-78.9985757
END:VEVENT
BEGIN:VTIMEZONE
TZID:America/New_York
X-LIC-LOCATION:America/New_York
BEGIN:DAYLIGHT
DTSTART:20190310T030000
TZOFFSETFROM:-0500
TZOFFSETTO:-0400
TZNAME:EDT
END:DAYLIGHT
END:VTIMEZONE
END:VCALENDAR