BEGIN:VCALENDAR
VERSION:2.0
PRODID:-//wp-events-plugin.com//7.2.3.1//EN
TZID:America/New_York
X-WR-TIMEZONE:America/New_York
BEGIN:VEVENT
UID:1014@wvpst.org
DTSTART;TZID=America/New_York:20190928T080000
DTEND;TZID=America/New_York:20190928T170000
DTSTAMP:20190731T183945Z
URL:https://wvpst.org/events/evoc-14/
SUMMARY:EVOC
DESCRIPTION:EVOC\n\nA 16-hour Emergency Vehicle Operations Course will be h
 eld at Bedington VFD on Saturday and Sunday\, September 28 &amp\; 29 start
 ing at 8:00 am each day.  Participants must be 18 years old and have a va
 lid driver's license.  Brian Mulligan is the instructor.  Course Fee is 
 $35.  Book Rental Fee is $10.  Books can be purchased for $78.\n\nClick 
 here for a Course Flyer
CATEGORIES:WVPST Martinsburg
LOCATION:Bedington VFD\, 775 Bedington Road\, Martinsburg\, WV\, 25404\, Un
 ited States
GEO:39.5236229;-77.90470440000001
X-APPLE-STRUCTURED-LOCATION;VALUE=URI;X-ADDRESS=775 Bedington Road\, Martin
 sburg\, WV\, 25404\, United States;X-APPLE-RADIUS=100;X-TITLE=Bedington VF
 D:geo:39.5236229,-77.90470440000001
END:VEVENT
BEGIN:VTIMEZONE
TZID:America/New_York
X-LIC-LOCATION:America/New_York
BEGIN:DAYLIGHT
DTSTART:20190310T030000
TZOFFSETFROM:-0500
TZOFFSETTO:-0400
TZNAME:EDT
END:DAYLIGHT
END:VTIMEZONE
END:VCALENDAR