BEGIN:VCALENDAR
VERSION:2.0
PRODID:-//wp-events-plugin.com//7.2.3.1//EN
TZID:America/New_York
X-WR-TIMEZONE:America/New_York
BEGIN:VEVENT
UID:997@wvpst.org
DTSTART;TZID=America/New_York:20190720T090000
DTEND;TZID=America/New_York:20190720T170000
DTSTAMP:20190711T121324Z
URL:https://wvpst.org/events/evoc-13/
SUMMARY:EVOC
DESCRIPTION:EVOC\n\nA 16-hour Emergency Vehicle Operations Course will be h
 eld at Middleway VFC on Saturday and Sunday July 20 and 21\,  2019 from 9
  am to 5 pm both days.  Steve Harris is the instructor.  Course fee is $
 35.  Book Rental Fee is $10.  Books can be purchased for $78.  Particip
 ants must be 18 years of age and have a valid driver's license.\n\nClick h
 ere for a Course Flyer\n\n&nbsp\;\n\n&nbsp\;
CATEGORIES:WVPST Martinsburg
LOCATION:Middleway VFC\, 110 Dark Hill Road\, Kearneysville\, WV\, United S
 tates
GEO:39.2942416;-77.98039219999998
X-APPLE-STRUCTURED-LOCATION;VALUE=URI;X-ADDRESS=110 Dark Hill Road\, Kearne
 ysville\, WV\, United States;X-APPLE-RADIUS=100;X-TITLE=Middleway VFC:geo:
 39.2942416,-77.98039219999998
END:VEVENT
BEGIN:VTIMEZONE
TZID:America/New_York
X-LIC-LOCATION:America/New_York
BEGIN:DAYLIGHT
DTSTART:20190310T030000
TZOFFSETFROM:-0500
TZOFFSETTO:-0400
TZNAME:EDT
END:DAYLIGHT
END:VTIMEZONE
END:VCALENDAR