BEGIN:VCALENDAR
VERSION:2.0
PRODID:-//wp-events-plugin.com//7.2.3.1//EN
TZID:America/New_York
X-WR-TIMEZONE:America/New_York
BEGIN:VEVENT
UID:2869@wvpst.org
DTSTART;TZID=America/New_York:20260121T080000
DTEND;TZID=America/New_York:20260121T160000
DTSTAMP:20251212T141029Z
URL:https://wvpst.org/events/evaluation-program-hseep-training-course/
SUMMARY:Evaluation Program (HSEEP) Training Course
DESCRIPTION:Evaluation Program (HSEEP) Training Course\nCourse Code: 26-325
 -06\n\nDates &amp\; Time: January 21-22\, 2026 – 8:00AM to 4:00PM\n\nLoc
 ation &amp\; Address: Marshall County Health Department – 513 6th Street
 \, Moundsville\, WV 26041\n\n*Course is FREE* Student materials will be pr
 ovided. Breakfast and Lunch are not provided. Students\nare required to br
 ing a laptop for course materials.\n\nInstructors: Jason Lively\, Bill Noi
 ce\n\nDescription: This is an intermediate-level course designed to provid
 e a set of guiding principles\,\nstandardized methodology\, available reso
 urces and practical skill development\, which will assist in\ndeveloping a
 n HSEEP consistent exercise program. This course describes a common approa
 ch to\nexercise program management\, design and development\, conduct\, ev
 aluation\, and improvement planning.\n\nPrerequisites: FEMA IS-120.C – A
 n Introduction to Exercises\n\nRegistration: Follow the guidelines in the 
 attached document using the course code above.\n\n&nbsp\;\n\nIf you have a
 ny questions or issues registering\, please contact Kyle Pajarito at\nkyle
 .c.pajarito@wv.gov.
CATEGORIES:WVPST Wheeling
LOCATION:Marshall County Health Department\, 513 6th St\, Moundsville\, WV\
 , 26041\, 
GEO:39.919221;-80.746302
X-APPLE-STRUCTURED-LOCATION;VALUE=URI;X-ADDRESS=513 6th St\, Moundsville\, 
 WV\, 26041\, ;X-APPLE-RADIUS=100;X-TITLE=Marshall County Health Department
 :geo:39.919221,-80.746302
END:VEVENT
BEGIN:VTIMEZONE
TZID:America/New_York
X-LIC-LOCATION:America/New_York
BEGIN:STANDARD
DTSTART:20251102T010000
TZOFFSETFROM:-0400
TZOFFSETTO:-0500
TZNAME:EST
END:STANDARD
END:VTIMEZONE
END:VCALENDAR