BEGIN:VCALENDAR
VERSION:2.0
PRODID:-//wp-events-plugin.com//7.2.3.1//EN
TZID:America/New_York
X-WR-TIMEZONE:America/New_York
BEGIN:VEVENT
UID:981@wvpst.org
DTSTART;TZID=America/New_York:20190720T090000
DTEND;TZID=America/New_York:20190720T120000
DTSTAMP:20190708T182553Z
URL:https://wvpst.org/events/emt-skills-2/
SUMMARY:EMT Skills
DESCRIPTION:EMT Skills\n\nPractical Skills Evaluations for Emergency Medica
 l Technician will be conducted on Saturday July 20\, 2019 at 9:00 am at th
 e Franklin Community Center in Franklin\, WV.  This is for a particular c
 lass but is open to others.  There is a $50 fee for anyone not enrolled i
 n a Public Service Training EMT or EMT Recertification Class.
CATEGORIES:WVPST Martinsburg
LOCATION:Franklin Community Center\, 299 Confererate Rd\, Franklin\, WV\, U
 nited States
GEO:38.6426541;-79.3288248
X-APPLE-STRUCTURED-LOCATION;VALUE=URI;X-ADDRESS=299 Confererate Rd\, Frankl
 in\, WV\, United States;X-APPLE-RADIUS=100;X-TITLE=Franklin Community Cent
 er:geo:38.6426541,-79.3288248
END:VEVENT
BEGIN:VTIMEZONE
TZID:America/New_York
X-LIC-LOCATION:America/New_York
BEGIN:DAYLIGHT
DTSTART:20190310T030000
TZOFFSETFROM:-0500
TZOFFSETTO:-0400
TZNAME:EDT
END:DAYLIGHT
END:VTIMEZONE
END:VCALENDAR