BEGIN:VCALENDAR
VERSION:2.0
PRODID:-//wp-events-plugin.com//7.2.3.1//EN
TZID:America/New_York
X-WR-TIMEZONE:America/New_York
BEGIN:VEVENT
UID:2992@wvpst.org
DTSTART;TZID=America/New_York:20260612T180000
DTEND;TZID=America/New_York:20260612T220000
DTSTAMP:20260331T173125Z
URL:https://wvpst.org/events/emt-refresher-45/
SUMMARY:EMT - Refresher
DESCRIPTION:There will be a 24 hour EMT refresher course offered at Hedgesv
 ille  VFD.\n\nClass  Dates: June 12 - 13 and June 19 - 20\n\nTimes: 6:0p
 m - 10:00 pm Fridays\n\n8:00am - 5:00 pm Saturdays\n\n&nbsp\;\n\n&nbsp\;\n
 \nInstructor: Jada Parker\n\n&nbsp\;\n\nPre-registration is required for t
 his course.\n\nHedgesville Refresher Flyer\n\n&nbsp\;
CATEGORIES:WVPST Martinsburg
LOCATION:Hedgesville Volunteer Fire Department\, 4217 Hedgesville Road\, He
 dgesville\, WV\, 25427\, United States
GEO:39.544777;-77.990549
X-APPLE-STRUCTURED-LOCATION;VALUE=URI;X-ADDRESS=4217 Hedgesville Road\, Hed
 gesville\, WV\, 25427\, United States;X-APPLE-RADIUS=100;X-TITLE=Hedgesvil
 le Volunteer Fire Department:geo:39.544777,-77.990549
END:VEVENT
BEGIN:VTIMEZONE
TZID:America/New_York
X-LIC-LOCATION:America/New_York
BEGIN:DAYLIGHT
DTSTART:20260308T030000
TZOFFSETFROM:-0500
TZOFFSETTO:-0400
TZNAME:EDT
END:DAYLIGHT
END:VTIMEZONE
END:VCALENDAR